BEGIN:VCALENDAR
PRODID:NingEventWidget-v1
VERSION:2.0
METHOD:PUBLISH
BEGIN:VTIMEZONE
TZID:Pacific/Midway
X-LIC-LOCATION:Pacific/Midway
BEGIN:STANDARD
TZOFFSETFROM:-1100
TZOFFSETTO:-1100
TZNAME:SST
DTSTART:19700101T000000
END:STANDARD
END:VTIMEZONE
BEGIN:VEVENT
UID:5072275:Event:1089775
DTSTAMP:20260423T115542Z
SUMMARY:Garage Riot Open Cruise In -Alpharetta,GA
DESCRIPTION:Garage Riot Open CruiseIn -Alpharetta,GA\n\nFor more infor
 mation visit https://www.southeastwheelsevents.com/events/garage-riot-
 open-cruise-in-alpharetta-ga-1
DTSTART;TZID=Pacific/Midway:20180818T180000
DTEND;TZID=Pacific/Midway:20180818T210000
CATEGORIES:cruiseiin, car, show
LOCATION:1870 McFarfarland Parkway
WEBSITE:http://garageriot.com/
URL:http://garageriot.com/
CONTACT:http://garageriot.com/help/contact
ORGANIZER:Garage Riot
ATTACH;FMTTYPE="image/jpeg":http://storage.ning.com/topology/rest/1.0/
 file/get/967778862?profile=original
ATTENDEE;ROLE=REQ-PARTICIPANT;PARTSTAT=ACCEPTED;RSVP=TRUE;CN="Chuck Aa
 ron":https://www.southeastwheelsevents.com/profile/ChuckAaron886
END:VEVENT
END:VCALENDAR
