BEGIN:VCALENDAR
PRODID:NingEventWidget-v1
VERSION:2.0
METHOD:PUBLISH
BEGIN:VTIMEZONE
TZID:Pacific/Midway
X-LIC-LOCATION:Pacific/Midway
BEGIN:STANDARD
TZOFFSETFROM:-1100
TZOFFSETTO:-1100
TZNAME:SST
DTSTART:19700101T000000
END:STANDARD
END:VTIMEZONE
BEGIN:VEVENT
UID:5072275:Event:1059322
DTSTAMP:20260423T093425Z
SUMMARY:GarageRiot SummerRiot car show
DESCRIPTION:GarageRiot's SummerRIot Car Show takes place Saturday, Jul
 y 29 at Wild Wing Cafe in Alpharetta, GA!\n\nThere are several judged 
 categories, with a $1,000 Best in Show prize!\n\nRegistration is $25 a
 t www.garageriot.com to compete and for more details; admission is fre
 e for spectators.\n\nCome and join us for some summer fun!\n\nFor more
  information visit https://www.southeastwheelsevents.com/events/garage
 riot-summerriot-car-show
DTSTART;TZID=Pacific/Midway:20170729T100000
DTEND;TZID=Pacific/Midway:20170729T150000
CATEGORIES:car, show
LOCATION:Wild Wing Cafe
WEBSITE:http://www.garageriot.com
URL:http://www.garageriot.com
CONTACT:
ORGANIZER:
ATTACH;FMTTYPE="image/jpeg":http://storage.ning.com/topology/rest/1.0/
 file/get/967750388?profile=original
ATTENDEE;ROLE=REQ-PARTICIPANT;PARTSTAT=ACCEPTED;RSVP=TRUE;CN=Andy:http
 s://www.southeastwheelsevents.com/profile/Andy
END:VEVENT
END:VCALENDAR
