BEGIN:VCALENDAR
PRODID:NingEventWidget-v1
VERSION:2.0
METHOD:PUBLISH
BEGIN:VTIMEZONE
TZID:Pacific/Midway
X-LIC-LOCATION:Pacific/Midway
BEGIN:STANDARD
TZOFFSETFROM:-1100
TZOFFSETTO:-1100
TZNAME:SST
DTSTART:19700101T000000
END:STANDARD
END:VTIMEZONE
BEGIN:VEVENT
UID:5072275:Event:1086787
DTSTAMP:20260423T141440Z
SUMMARY:Gateway Church Car show - Ashland City, TS
DESCRIPTION:Gateway Church Car show.\n\nFor more information visit htt
 ps://www.southeastwheelsevents.com/events/gateway-church-car-show-ashl
 and-city-ts
DTSTART;TZID=Pacific/Midway:20180623T080000
DTEND;TZID=Pacific/Midway:20180623T150000
CATEGORIES:car, show
LOCATION:1642 Hwy 12 South
WEBSITE:
URL:
CONTACT:(615) 792-5978 (RD 77)
ORGANIZER:
ATTACH;FMTTYPE="image/jpeg":http://storage.ning.com/topology/rest/1.0/
 file/get/967775239?profile=original
ATTENDEE;ROLE=REQ-PARTICIPANT;PARTSTAT=ACCEPTED;RSVP=TRUE;CN="Anthony 
 Hopkins":https://www.southeastwheelsevents.com/profile/AnthonyHopkins
END:VEVENT
END:VCALENDAR
