BEGIN:VCALENDAR
PRODID:NingEventWidget-v1
VERSION:2.0
METHOD:PUBLISH
BEGIN:VTIMEZONE
TZID:Pacific/Midway
X-LIC-LOCATION:Pacific/Midway
BEGIN:STANDARD
TZOFFSETFROM:-1100
TZOFFSETTO:-1100
TZNAME:SST
DTSTART:19700101T000000
END:STANDARD
END:VTIMEZONE
BEGIN:VEVENT
UID:5072275:Event:1115767
DTSTAMP:20260424T045524Z
SUMMARY:Gateway Classic Cars Holiday Party! -O'Fallon, IL
DESCRIPTION:Celebrate Christmas Season with Gateway Classic Cars on De
 cember 1st from 10am - 3pm! Bring an unwrapped toy for donation!. In r
 eturn you will receive Free Admission! Enjoy lunch, classic cars, exot
 ic cars, and of course Santa! Bring the whole family and give to a gre
 at charity making childrens dreams come true! Lunch will be served fro
 m 11am till 2pm. Hope to see you there!\r\nNOW ACCEPTING VENDORS\n\nFo
 r more information visit https://www.southeastwheelsevents.com/events/
 gateway-classic-cars-holiday-party-2
DTSTART;TZID=Pacific/Midway:20181201T100000
DTEND;TZID=Pacific/Midway:20181201T150000
CATEGORIES:cruise, in, christmas, donuts, party, kids, santa
LOCATION:Gateway Classic Cars
WEBSITE:https://www.facebook.com/pg/GatewayClassicCars/events/?ref=pag
 e_internal
URL:https://www.facebook.com/pg/GatewayClassicCars/events/?ref=page_in
 ternal
CONTACT:618-589-9951
ORGANIZER;CN="Gateway Classic Cars":https://www.southeastwheelsevents.
 com/profile/GatewayClassicCars
ATTACH;FMTTYPE="image/jpeg":http://storage.ning.com/topology/rest/1.0/
 file/get/967807211?profile=original
ATTENDEE;ROLE=REQ-PARTICIPANT;PARTSTAT=ACCEPTED;RSVP=TRUE;CN="Gateway 
 Classic Cars":https://www.southeastwheelsevents.com/profile/GatewayCla
 ssicCars
END:VEVENT
END:VCALENDAR
