BEGIN:VCALENDAR
PRODID:NingEventWidget-v1
VERSION:2.0
METHOD:PUBLISH
BEGIN:VTIMEZONE
TZID:Pacific/Midway
X-LIC-LOCATION:Pacific/Midway
BEGIN:STANDARD
TZOFFSETFROM:-1100
TZOFFSETTO:-1100
TZNAME:SST
DTSTART:19700101T000000
END:STANDARD
END:VTIMEZONE
BEGIN:VEVENT
UID:5072275:Event:1117852
DTSTAMP:20260424T045540Z
SUMMARY:Gateway Classic Cars Holiday Party! -Ruskin, FL
DESCRIPTION:Celebrate Christmas Season with Gateway Classic Cars on De
 cember 1st from 10 am - 3 pm! Bring an unwrapped toy for Toys for Tots
 . In return, you will receive Free Admission! Enjoy lunch, classic car
 s, exotic cars, and of course Santa! Bring the whole family and give t
 o a great charity making children's dreams come true! Lunch will be se
 rved from 11 am till 2 pm. Hope to see you there!\n\nFor more informat
 ion visit https://www.southeastwheelsevents.com/events/gateway-classic
 -cars-holiday-party-5
DTSTART;TZID=Pacific/Midway:20181201T100000
DTEND;TZID=Pacific/Midway:20181201T150000
CATEGORIES:cruise, in, fundraiser, christmas, party, donuts, lunch, cl
 assic, cars, exotics
LOCATION:Gateway Classic Cars of Tampa
WEBSITE:http://www.gatewayclassiccars.com/fluid-locations?location=TPA
URL:http://www.gatewayclassiccars.com/fluid-locations?location=TPA
CONTACT:618-589-9951
ORGANIZER;CN="Gateway Classic Cars":https://www.southeastwheelsevents.
 com/profile/GatewayClassicCars
ATTACH;FMTTYPE="image/jpeg":http://storage.ning.com/topology/rest/1.0/
 file/get/967808083?profile=original
ATTENDEE;ROLE=REQ-PARTICIPANT;PARTSTAT=ACCEPTED;RSVP=TRUE;CN="Gateway 
 Classic Cars":https://www.southeastwheelsevents.com/profile/GatewayCla
 ssicCars
END:VEVENT
END:VCALENDAR
