BEGIN:VCALENDAR
PRODID:NingEventWidget-v1
VERSION:2.0
METHOD:PUBLISH
BEGIN:VTIMEZONE
TZID:Pacific/Midway
X-LIC-LOCATION:Pacific/Midway
BEGIN:STANDARD
TZOFFSETFROM:-1100
TZOFFSETTO:-1100
TZNAME:SST
DTSTART:19700101T000000
END:STANDARD
END:VTIMEZONE
BEGIN:VEVENT
UID:5072275:Event:1066326
DTSTAMP:20260419T124639Z
SUMMARY:Gateway Classic Cars Trunk or Treat Crete, IL
DESCRIPTION:Join Gateway Classic Cars for our first, \"Trunk or Treat\
 "! Cruise in with your classic, exotic, or muscle car on October 28th 
 9am - 12pm. Fill your trunk with candy for the kids. Gateway Classic C
 ars, as always, will supply coffee & donuts. All makes and models are 
 welcome, plus check out over 200 classics and exotics in our showroom.
  Free Admission at EVERY LOCATION!\n\nFor more information visit https
 ://www.southeastwheelsevents.com/events/gateway-classic-cars-trunk-or-
 treat-crete-il
DTSTART;TZID=Pacific/Midway:20171028T090000
DTEND;TZID=Pacific/Midway:20171028T120000
CATEGORIES:halloween, party, kids, auto
LOCATION:Gateway Classic Cars of Chicago
WEBSITE:https://www.facebook.com/events/881657551992500/?acontext=%7B%
 22source%22%3A5%2C%22page_id_source%22%3A700681543344025%2C%22action_h
 istory%22%3A[%7B%22surface%22%3A%22page%22%2C%22mechanism%22%3A%22main
 _list%22%2C%22extra_data%22%3A%22%7B%5C%22page_id%5C%22%3A700681543344
 025%2C%5C%22tour_id%5C%22%3Anull%7D%22%7D]%2C%22has_source%22%3Atrue%7
 D
URL:https://www.facebook.com/events/881657551992500/?acontext=%7B%22so
 urce%22%3A5%2C%22page_id_source%22%3A700681543344025%2C%22action_histo
 ry%22%3A[%7B%22surface%22%3A%22page%22%2C%22mechanism%22%3A%22main_lis
 t%22%2C%22extra_data%22%3A%22%7B%5C%22page_id%5C%22%3A700681543344025%
 2C%5C%22tour_id%5C%22%3Anull%7D%22%7D]%2C%22has_source%22%3Atrue%7D
CONTACT:6185899952
ORGANIZER;CN="Gateway Classic Cars":https://www.southeastwheelsevents.
 com/profile/GatewayClassicCars
ATTACH;FMTTYPE="image/jpeg":http://storage.ning.com/topology/rest/1.0/
 file/get/967751890?profile=original
ATTENDEE;ROLE=REQ-PARTICIPANT;PARTSTAT=ACCEPTED;RSVP=TRUE;CN="Gateway 
 Classic Cars":https://www.southeastwheelsevents.com/profile/GatewayCla
 ssicCars
END:VEVENT
END:VCALENDAR
