BEGIN:VCALENDAR
PRODID:NingEventWidget-v1
VERSION:2.0
METHOD:PUBLISH
BEGIN:VTIMEZONE
TZID:Pacific/Midway
X-LIC-LOCATION:Pacific/Midway
BEGIN:STANDARD
TZOFFSETFROM:-1100
TZOFFSETTO:-1100
TZNAME:SST
DTSTART:19700101T000000
END:STANDARD
END:VTIMEZONE
BEGIN:VEVENT
UID:5072275:Event:50553
DTSTAMP:20260420T171117Z
SUMMARY:Gathering At The Sonic -Lawrenceville, GA NOT AT THIS LOCATION
DESCRIPTION:The tenants of the plaza have hired Security to keep us ou
 t. They will arrest anyone tryig to gather there anymore  - see 
 the videos at http://southeastwheelsevents.com/video/the-riverside-so
 nic-gathering and http://southeastwheelsevents.com/video/the-riversi
 de-sonic-gathering-1\n\nFor more information visit https://www.southea
 stwheelsevents.com/events/gathering-at-the-sonic-2
DTSTART;TZID=Pacific/Midway:20110519T200000
DTEND;TZID=Pacific/Midway:20110519T230000
CATEGORIES:gathering
LOCATION:Sonic Drive-in
WEBSITE:
URL:
CONTACT:
ORGANIZER:
ATTACH;FMTTYPE="image/jpeg":
ATTENDEE;ROLE=REQ-PARTICIPANT;PARTSTAT=ACCEPTED;RSVP=TRUE;CN=Leroy:htt
 ps://www.southeastwheelsevents.com/profile/Leroy
ATTENDEE;ROLE=REQ-PARTICIPANT;PARTSTAT=TENTATIVE;RSVP=TRUE;CN="Richard
  Scott":https://www.southeastwheelsevents.com/profile/RichardScott
ATTENDEE;ROLE=REQ-PARTICIPANT;PARTSTAT=TENTATIVE;RSVP=TRUE;CN="Scott m
 unczenski":https://www.southeastwheelsevents.com/profile/Scottmunczens
 ki
ATTENDEE;ROLE=REQ-PARTICIPANT;PARTSTAT=TENTATIVE;RSVP=TRUE;CN="joe goo
 dmon":https://www.southeastwheelsevents.com/profile/joegoodmon
END:VEVENT
END:VCALENDAR
