BEGIN:VCALENDAR
PRODID:NingEventWidget-v1
VERSION:2.0
METHOD:PUBLISH
BEGIN:VTIMEZONE
TZID:Pacific/Midway
X-LIC-LOCATION:Pacific/Midway
BEGIN:STANDARD
TZOFFSETFROM:-1100
TZOFFSETTO:-1100
TZNAME:SST
DTSTART:19700101T000000
END:STANDARD
END:VTIMEZONE
BEGIN:VEVENT
UID:5072275:Event:1034658
DTSTAMP:20260423T224328Z
SUMMARY:GEAR JAM Spring Nationals / SWAP MEET -Commerce, GA
DESCRIPTION: \r\nApril 21st – 22nd - Saturday- Sunday \r\nGEAR 
 JAM\r\nSchedule\r\n \r\nFast Friday\r\nApril 20, 2018\r\n \r\nRace S
 chedule:\r\n6:00 PM - Gates Open \r\n \r\nRace Entry Fees:\r\n- Race
 r Entry: $20\r\n- Adult Spectators & Crew: $10\r\n- Children 12 and un
 der FREE with paying adult\r\n \r\n \r\n \r\n \r\nApril 21-22, 201
 8\r\n \r\nGear Jam Vintage Drags, Car Show, Swap Meet, and Music!\r\n
  \r\nNostalgia drag racing with a Gambler's Race on Friday and nostal
 gia drags on Saturday.\r\n \r\nGassers, Front-Engine Dragsters, Alter
 ds, and Muscle Cars.\r\n \r\nPin-up girl contest and flag-start drag 
 passes for car show particpants on Saturday.\r\n \r\nAfter racing Fri
 day and Saturday night, we'll have live rockability and country vands.
  Ager the last notes, we'll be screening Smokey and the Bandit on Frid
 ay night, American Graffiti and the Outsiders on Saturday night.\r\n 
 \r\nFor more information, call Brad at (706) 424-5035 or go to www.ge
 arjamvintagedrags.com\n\nFor more information visit https://www.southe
 astwheelsevents.com/events/gear-jam-swap-meet-1
DTSTART;TZID=Pacific/Midway:20180420T000000
DTEND;TZID=Pacific/Midway:20180422T235900
CATEGORIES:swapmeet, races
LOCATION:Atlanta Dragway
WEBSITE:http://www.atlantadragway.com/ http://negeorgiaswapmeet.com/
URL:http://www.atlantadragway.com/ http://negeorgiaswapmeet.com/
CONTACT:(706) 335-2301, Brad 706-424-5035
ORGANIZER:NEGeorgia Swap Meet/Atlanta Dragway
ATTACH;FMTTYPE="image/jpeg":http://storage.ning.com/topology/rest/1.0/
 file/get/967738212?profile=original
ATTENDEE;ROLE=REQ-PARTICIPANT;PARTSTAT=ACCEPTED;RSVP=TRUE;CN="Christop
 her Gosney":https://www.southeastwheelsevents.com/profile/ChristopherG
 osney
ATTENDEE;ROLE=REQ-PARTICIPANT;PARTSTAT=ACCEPTED;RSVP=TRUE;CN="Chuck Aa
 ron":https://www.southeastwheelsevents.com/profile/ChuckAaron886
ATTENDEE;ROLE=REQ-PARTICIPANT;PARTSTAT=ACCEPTED;RSVP=TRUE;CN="Robert D
 . sauer":https://www.southeastwheelsevents.com/profile/RobertDsauer
ATTENDEE;ROLE=REQ-PARTICIPANT;PARTSTAT=ACCEPTED;RSVP=TRUE;CN="Forrest 
 Mahannah":https://www.southeastwheelsevents.com/profile/ForrestMahanna
 h
ATTENDEE;ROLE=REQ-PARTICIPANT;PARTSTAT=TENTATIVE;RSVP=TRUE;CN="James A
 rwood":https://www.southeastwheelsevents.com/profile/JamesArwood
ATTENDEE;ROLE=REQ-PARTICIPANT;PARTSTAT=TENTATIVE;RSVP=TRUE;CN="Robert 
 Gates":https://www.southeastwheelsevents.com/profile/RobertGates
END:VEVENT
END:VCALENDAR
