BEGIN:VCALENDAR
PRODID:NingEventWidget-v1
VERSION:2.0
METHOD:PUBLISH
BEGIN:VTIMEZONE
TZID:Pacific/Midway
X-LIC-LOCATION:Pacific/Midway
BEGIN:STANDARD
TZOFFSETFROM:-1100
TZOFFSETTO:-1100
TZNAME:SST
DTSTART:19700101T000000
END:STANDARD
END:VTIMEZONE
BEGIN:VEVENT
UID:5072275:Event:1024723
DTSTAMP:20260424T000956Z
SUMMARY:Gear Jam Vintage Drags, Car Show and Swap Meet -Commerce, GA
DESCRIPTION:The Gear Jam Vintage Drags, Car Show and Swap Meet will be
  held at the Atlanta Dragway in Commerce, GA.\r\nTest-and-tune and Gam
 blers Race Friday\r\nQualifying and Eliminations Saturday\r\nJudged Ca
 r Show\r\nHuge swap meet with 200+ Vendors\r\nIndex Classes for:\r\nGa
 sser\r\nFront Engine Dragster/Altered\r\nMuscle Car\r\nNostalgia Super
  Stock\r\nHot Rod\r\n\r\nCruise in Downtown Commerce on Saturday Night
 .\r\nFor more information, send an email to brad56@windstream.net\n\nF
 or more information visit https://www.southeastwheelsevents.com/events
 /gear-jam-vintage-drags-car-show-and-swap-meet-1
DTSTART;TZID=Pacific/Midway:20180421T000000
DTEND;TZID=Pacific/Midway:20180422T235900
CATEGORIES:nostalgia, drag, race, car, show, and, swap, meet
LOCATION:Atlanta Dragway
WEBSITE:http://gearjamvintagedrags.com
URL:http://gearjamvintagedrags.com
CONTACT:(706) 424-5035
ORGANIZER;CN="Brad Ocock":https://www.southeastwheelsevents.com/profil
 e/BradOcock
ATTACH;FMTTYPE="image/jpeg":http://storage.ning.com/topology/rest/1.0/
 file/get/967716299?profile=original
ATTENDEE;ROLE=REQ-PARTICIPANT;PARTSTAT=ACCEPTED;RSVP=TRUE;CN="Forrest 
 Mahannah":https://www.southeastwheelsevents.com/profile/ForrestMahanna
 h
ATTENDEE;ROLE=REQ-PARTICIPANT;PARTSTAT=ACCEPTED;RSVP=TRUE;CN="Brad Oco
 ck":https://www.southeastwheelsevents.com/profile/BradOcock
ATTENDEE;ROLE=REQ-PARTICIPANT;PARTSTAT=ACCEPTED;RSVP=TRUE;CN="John Cur
 tis Smith":https://www.southeastwheelsevents.com/profile/JohnCurtisSmi
 th
END:VEVENT
END:VCALENDAR
