BEGIN:VCALENDAR
PRODID:NingEventWidget-v1
VERSION:2.0
METHOD:PUBLISH
BEGIN:VTIMEZONE
TZID:Pacific/Midway
X-LIC-LOCATION:Pacific/Midway
BEGIN:STANDARD
TZOFFSETFROM:-1100
TZOFFSETTO:-1100
TZNAME:SST
DTSTART:19700101T000000
END:STANDARD
END:VTIMEZONE
BEGIN:VEVENT
UID:5072275:Event:410420
DTSTAMP:20260423T072814Z
SUMMARY:Gearhead Party -Taccoa, GA
DESCRIPTION:Party @ Larry's place......bring a covered dish,drink, or 
 whatever. I'm putting this up under events so all who cannot access th
 e TWS club site can get the info for the party.....looking foreward to
  seeing everybody!\n\nFor more information visit https://www.southeast
 wheelsevents.com/events/gearhead-party
DTSTART;TZID=Pacific/Midway:20110917T170000
DTEND;TZID=Pacific/Midway:20110917T230000
CATEGORIES:party
LOCATION:Larry Shaw's place
WEBSITE:
URL:
CONTACT:631-374-5890
ORGANIZER;CN="larry shaw":https://www.southeastwheelsevents.com/profil
 e/larryshaw
ATTACH;FMTTYPE="image/jpeg":http://storage.ning.com/topology/rest/1.0/
 file/get/967602636?profile=original
ATTENDEE;ROLE=REQ-PARTICIPANT;PARTSTAT=ACCEPTED;RSVP=TRUE;CN="larry sh
 aw":https://www.southeastwheelsevents.com/profile/larryshaw
ATTENDEE;ROLE=REQ-PARTICIPANT;PARTSTAT=ACCEPTED;RSVP=TRUE;CN="Hugh Dud
 ley":https://www.southeastwheelsevents.com/profile/HughDudley
ATTENDEE;ROLE=REQ-PARTICIPANT;PARTSTAT=ACCEPTED;RSVP=TRUE;CN="Darlene 
 Scott":https://www.southeastwheelsevents.com/profile/Darlene
ATTENDEE;ROLE=REQ-PARTICIPANT;PARTSTAT=ACCEPTED;RSVP=TRUE;CN="Ed Mistr
 etta":https://www.southeastwheelsevents.com/profile/EdMistretta
ATTENDEE;ROLE=REQ-PARTICIPANT;PARTSTAT=ACCEPTED;RSVP=TRUE;CN="Richard 
 Scott":https://www.southeastwheelsevents.com/profile/RichardScott
ATTENDEE;ROLE=REQ-PARTICIPANT;PARTSTAT=TENTATIVE;RSVP=TRUE;CN=Pig:http
 s://www.southeastwheelsevents.com/profile/JoeS
END:VEVENT
END:VCALENDAR
