BEGIN:VCALENDAR
PRODID:NingEventWidget-v1
VERSION:2.0
METHOD:PUBLISH
BEGIN:VTIMEZONE
TZID:Pacific/Midway
X-LIC-LOCATION:Pacific/Midway
BEGIN:STANDARD
TZOFFSETFROM:-1100
TZOFFSETTO:-1100
TZNAME:SST
DTSTART:19700101T000000
END:STANDARD
END:VTIMEZONE
BEGIN:VEVENT
UID:5072275:Event:561423
DTSTAMP:20260421T140849Z
SUMMARY:Georgia Classic Cruisers-\"Cruise In\" -Greensboro, GA
DESCRIPTION:The historic town of Greensboro, GA is the setting for thi
 s annual family event.  The Cruise-In is located in the historic down
 town business district, and will feature live music.\r\n\n\nFor more i
 nformation visit https://www.southeastwheelsevents.com/events/georgia-
 classic-cruisers-cruise-in-greensboro-ga-1
DTSTART;TZID=Pacific/Midway:20220917T160000
DTEND;TZID=Pacific/Midway:20220917T200000
CATEGORIES:cruise, in-, antique, classic, muscle, street, rods, motorc
 ycles
LOCATION:Downtown Greensboro, GA- Off I-20 heading to Augusta, GA
WEBSITE:http://www.georgiaclassiccruisers.com
URL:http://www.georgiaclassiccruisers.com
CONTACT:John Smith 706-717-9371, Ron Hazzard 706-467-9306
ORGANIZER:Georgia Classic Cruisers
ATTACH;FMTTYPE="image/jpeg":http://storage.ning.com/topology/rest/1.0/
 file/get/967623385?profile=original
ATTENDEE;ROLE=REQ-PARTICIPANT;PARTSTAT=ACCEPTED;RSVP=TRUE;CN="Chuck Aa
 ron":https://www.southeastwheelsevents.com/profile/ChuckAaron886
ATTENDEE;ROLE=REQ-PARTICIPANT;PARTSTAT=ACCEPTED;RSVP=TRUE;CN="Chuck Aa
 ron":https://www.southeastwheelsevents.com/profile/ChuckAaron
END:VEVENT
END:VCALENDAR
