BEGIN:VCALENDAR
PRODID:NingEventWidget-v1
VERSION:2.0
METHOD:PUBLISH
BEGIN:VTIMEZONE
TZID:Pacific/Midway
X-LIC-LOCATION:Pacific/Midway
BEGIN:STANDARD
TZOFFSETFROM:-1100
TZOFFSETTO:-1100
TZNAME:SST
DTSTART:19700101T000000
END:STANDARD
END:VTIMEZONE
BEGIN:VEVENT
UID:5072275:Event:1237017
DTSTAMP:20260420T010049Z
SUMMARY:Georgia Classic Rides Cruise/Block Party -Dallas, GA
DESCRIPTION:\r\n\r\nPlease join Georgia Classic Rides this Saturday fo
 r our  Car Cruise Event, located at The New Courthouse, 240 Constitut
 ion Blvd., Dallas GA. The Ice Cream Man will be on-site serving. Thank
  you for supporting Georgia Classic Rides & the Underprivileged Childr
 en of Paulding County!\r\nAn event every month that begins at 8:00 am 
 on the fourth Saturday of the month, repeating until October 22, 2022\
 r\n\n\nFor more information visit https://www.southeastwheelsevents.co
 m/events/georgia-classic-rides-cruise-block-party-dallas-ga
DTSTART;TZID=Pacific/Midway:20220827T160000
DTEND;TZID=Pacific/Midway:20220827T200000
CATEGORIES:car, show, festival
LOCATION:Watson Government Complex
WEBSITE:https://www.georgiaclassicrides.com/
URL:https://www.georgiaclassicrides.com/
CONTACT:Ellis 404-401-5653
ORGANIZER:Georgia Classic Rides
ATTACH;FMTTYPE="image/jpeg":https://storage.ning.com/topology/rest/1.0
 /file/get/2862166154?profile=original
ATTENDEE;ROLE=REQ-PARTICIPANT;PARTSTAT=ACCEPTED;RSVP=TRUE;CN="Chuck Aa
 ron":https://www.southeastwheelsevents.com/profile/ChuckAaron886
END:VEVENT
END:VCALENDAR
