BEGIN:VCALENDAR
PRODID:NingEventWidget-v1
VERSION:2.0
METHOD:PUBLISH
BEGIN:VTIMEZONE
TZID:Pacific/Midway
X-LIC-LOCATION:Pacific/Midway
BEGIN:STANDARD
TZOFFSETFROM:-1100
TZOFFSETTO:-1100
TZNAME:SST
DTSTART:19700101T000000
END:STANDARD
END:VTIMEZONE
BEGIN:VEVENT
UID:5072275:Event:1160763
DTSTAMP:20260424T130055Z
SUMMARY:Classic Rides Spring Car Show -Dallas, NC
DESCRIPTION:\n\nFor more information visit https://www.southeastwheels
 events.com/events/georgia-classic-rides-spring-car-show-dallas-ga
DTSTART;TZID=Pacific/Midway:20210612T090000
DTEND;TZID=Pacific/Midway:20210612T160000
CATEGORIES:cae, show
LOCATION:Town
WEBSITE:
URL:
CONTACT:Rick 704-914-5695
ORGANIZER:Dallas Concert Series
ATTACH;FMTTYPE="image/jpeg":
ATTENDEE;ROLE=REQ-PARTICIPANT;PARTSTAT=ACCEPTED;RSVP=TRUE;CN="Chuck Aa
 ron":https://www.southeastwheelsevents.com/profile/ChuckAaron886
END:VEVENT
END:VCALENDAR
