BEGIN:VCALENDAR
PRODID:NingEventWidget-v1
VERSION:2.0
METHOD:PUBLISH
BEGIN:VTIMEZONE
TZID:Pacific/Midway
X-LIC-LOCATION:Pacific/Midway
BEGIN:STANDARD
TZOFFSETFROM:-1100
TZOFFSETTO:-1100
TZNAME:SST
DTSTART:19700101T000000
END:STANDARD
END:VTIMEZONE
BEGIN:VEVENT
UID:5072275:Event:811794
DTSTAMP:20260423T145415Z
SUMMARY:Georgia Mountain Jubilee Classic Car Show -Clayton, GA
DESCRIPTION:3rd Annual Georgia Mountain Jubilee & Classic Car Show fea
 turing live music all day, two great bands, food vendors, local artist
 s, business exhibits and children's activities.This will be a judged s
 how with trophies awarded to Top Ten, Best Chevy, Best Ford, Best Mopa
 r, Best BOPC, Best Truck, Best Street Rod, Best Classic, Best Modified
 , Best 2000 & newer, Best of Show and Peoples Choice. Register by 10/4
 /2014 for $20. $25 day of the show. e-mail Jeff Butler at jeff_butler@
 windstream.net for registration forms. \n\nFor more information visit
  https://www.southeastwheelsevents.com/events/georgia-mountain-jubilee
 -classic-car-show
DTSTART;TZID=Pacific/Midway:20141011T090000
DTEND;TZID=Pacific/Midway:20141011T160000
CATEGORIES:festival, "&", car, show
LOCATION:Ramey Blvd Clayton, Georgia
WEBSITE:http://www.georgiamountainjubilee.com
URL:http://www.georgiamountainjubilee.com
CONTACT:706-782-9294
ORGANIZER;CN="Jeff Butler":https://www.southeastwheelsevents.com/profi
 le/JeffButler
ATTACH;FMTTYPE="image/jpeg":http://storage.ning.com/topology/rest/1.0/
 file/get/967667931?profile=original
ATTENDEE;ROLE=REQ-PARTICIPANT;PARTSTAT=ACCEPTED;RSVP=TRUE;CN="larry sh
 aw":https://www.southeastwheelsevents.com/profile/larryshaw
ATTENDEE;ROLE=REQ-PARTICIPANT;PARTSTAT=ACCEPTED;RSVP=TRUE;CN="Jeff But
 ler":https://www.southeastwheelsevents.com/profile/JeffButler
END:VEVENT
END:VCALENDAR
