BEGIN:VCALENDAR
PRODID:NingEventWidget-v1
VERSION:2.0
METHOD:PUBLISH
BEGIN:VTIMEZONE
TZID:Pacific/Midway
X-LIC-LOCATION:Pacific/Midway
BEGIN:STANDARD
TZOFFSETFROM:-1100
TZOFFSETTO:-1100
TZNAME:SST
DTSTART:19700101T000000
END:STANDARD
END:VTIMEZONE
BEGIN:VEVENT
UID:5072275:Event:4043
DTSTAMP:20260424T160258Z
SUMMARY:Georgia Street Rod Association Swap Meet 2010 -Marietta, Ga
DESCRIPTION:\nAUTO PARTS AND RELATED ITEMS ONLY!\nSet up 7am for Vendo
 rs - Open to the Public 8am until 4pm\nOutside 10'x20' Inside 10'x10' 
 Covered Swap Space Available\nSwap space $20, includes 1 adult\nCar Co
 rral $10, includes 1 adult\nAdmission: Adults $5,children under 12 and
  women FREE!\n\nFor more information visit https://www.southeastwheels
 events.com/events/georgia-street-rod-association
DTSTART;TZID=Pacific/Midway:20100410T080000
DTEND;TZID=Pacific/Midway:20100410T160000
CATEGORIES:swap-meet
LOCATION:Cobb County Fairgrounds
WEBSITE:http://www.gsra.com
URL:http://www.gsra.com
CONTACT:Wayne 770-517-6701
ORGANIZER:Georgia Street Rod Association
ATTACH;FMTTYPE="image/jpeg":http://storage.ning.com/topology/rest/1.0/
 file/get/967571433?profile=original
ATTENDEE;ROLE=REQ-PARTICIPANT;PARTSTAT=ACCEPTED;RSVP=TRUE;CN="Lenny   
   Major":https://www.southeastwheelsevents.com/profile/LennyMajor
ATTENDEE;ROLE=REQ-PARTICIPANT;PARTSTAT=ACCEPTED;RSVP=TRUE;CN="Mike Dal
 y Sr":https://www.southeastwheelsevents.com/profile/MikeDalySr
ATTENDEE;ROLE=REQ-PARTICIPANT;PARTSTAT=ACCEPTED;RSVP=TRUE;CN="Michael 
 Thies":https://www.southeastwheelsevents.com/profile/MichaelThies
ATTENDEE;ROLE=REQ-PARTICIPANT;PARTSTAT=TENTATIVE;RSVP=TRUE;CN="Scott m
 unczenski":https://www.southeastwheelsevents.com/profile/Scottmunczens
 ki
END:VEVENT
END:VCALENDAR
