BEGIN:VCALENDAR
PRODID:NingEventWidget-v1
VERSION:2.0
METHOD:PUBLISH
BEGIN:VTIMEZONE
TZID:Pacific/Midway
X-LIC-LOCATION:Pacific/Midway
BEGIN:STANDARD
TZOFFSETFROM:-1100
TZOFFSETTO:-1100
TZNAME:SST
DTSTART:19700101T000000
END:STANDARD
END:VTIMEZONE
BEGIN:VEVENT
UID:5072275:Event:1097715
DTSTAMP:20260421T220623Z
SUMMARY:Gladefest Antique Car Show - Gladeville, TN
DESCRIPTION:Gladefest Antique Car Show at the Church of Christ.\r\n\n\
 nFor more information visit https://www.southeastwheelsevents.com/even
 ts/gladefest-antique-car-show-gladeville-tn-1
DTSTART;TZID=Pacific/Midway:20220917T180000
DTEND;TZID=Pacific/Midway:20220917T210000
CATEGORIES:car, show, cruise, in
LOCATION:Church of Christ
WEBSITE:http://midtennaaca.org
URL:http://midtennaaca.org
CONTACT:(615) 444-7315, (615) 308-0586
ORGANIZER:Glenn Edwards, Marc Humes
ATTACH;FMTTYPE="image/jpeg":http://storage.ning.com/topology/rest/1.0/
 file/get/967794958?profile=original
ATTENDEE;ROLE=REQ-PARTICIPANT;PARTSTAT=ACCEPTED;RSVP=TRUE;CN="Anthony 
 Hopkins":https://www.southeastwheelsevents.com/profile/AnthonyHopkins
END:VEVENT
END:VCALENDAR
