BEGIN:VCALENDAR
PRODID:NingEventWidget-v1
VERSION:2.0
METHOD:PUBLISH
BEGIN:VTIMEZONE
TZID:Pacific/Midway
X-LIC-LOCATION:Pacific/Midway
BEGIN:STANDARD
TZOFFSETFROM:-1100
TZOFFSETTO:-1100
TZNAME:SST
DTSTART:19700101T000000
END:STANDARD
END:VTIMEZONE
BEGIN:VEVENT
UID:5072275:Event:561630
DTSTAMP:20260422T053513Z
SUMMARY:Gladefest Antique Car Show -Gladeville, TN
DESCRIPTION:Gladefest Antique Car Show -Gladeville, TN\r\nThis is the 
 calendar for our 2022 events. We are anxious to continue to host antiq
 ue vehicle shows and look forward to getting back to normal!\r\nÂ \r\n
 Â \r\nï¿½Â  April 9th - Mayberry Cruise-In Granville, TN\r\nÂ \r\nï¿½Â
   May 1st - 26th Spring Meet of the Mid-Tenn Region of the AACA - Wils
 on Bank and Trust, Mt. Juliet Tennessee\r\nÂ \r\nï¿½ May 28thÂ - Granv
 ille Heritage Day Antique Car Show - Granville, TN\r\nÂ \r\nï¿½ June 1
 2th - Summerfest Antique Car Show, Central Magnet School, Murfreesboro
 , TN\r\nÂ \r\nï¿½August 21st - Wilson County Fair Car Show - Lebanon, 
 TN\r\nÂ \r\nï¿½Â September 9th-10th - 66th Annual Fall Meet of the Mid
 -Tenn Region of the AACA - Red Boiling Springs, TN.\r\nÂ \r\nï¿½Â Sept
 ember 17th - Gladefest Antique Car Show - Gladeville, TN\r\nÂ \r\nï¿½Â
   October 16th- Annual Wilson Bank & Trust Oktoberfest Antique Car Sho
 w Wilson Bank main office Lebanon, TN\r\nÂ \n\nFor more information vi
 sit https://www.southeastwheelsevents.com/events/gladefest-antique-car
 -show-gladeville-tn
DTSTART;TZID=Pacific/Midway:20220917T070000
DTEND;TZID=Pacific/Midway:20220917T150000
CATEGORIES:car-show
LOCATION:Church of Christ
WEBSITE:http://www.midtennaaca.org/shows.php
URL:http://www.midtennaaca.org/shows.php
CONTACT:615-444-7315, 615-449-4901
ORGANIZER:Glenn Edwards, Marc Humes
ATTACH;FMTTYPE="image/jpeg":http://storage.ning.com/topology/rest/1.0/
 file/get/967622951?profile=original
ATTENDEE;ROLE=REQ-PARTICIPANT;PARTSTAT=ACCEPTED;RSVP=TRUE;CN="Jack Tho
 mas":https://www.southeastwheelsevents.com/profile/JackThomas
END:VEVENT
END:VCALENDAR
