BEGIN:VCALENDAR
PRODID:NingEventWidget-v1
VERSION:2.0
METHOD:PUBLISH
BEGIN:VTIMEZONE
TZID:Pacific/Midway
X-LIC-LOCATION:Pacific/Midway
BEGIN:STANDARD
TZOFFSETFROM:-1100
TZOFFSETTO:-1100
TZNAME:SST
DTSTART:19700101T000000
END:STANDARD
END:VTIMEZONE
BEGIN:VEVENT
UID:5072275:Event:1016700
DTSTAMP:20260423T113807Z
SUMMARY:GMG Automotive Perfromance Grand Opening
DESCRIPTION:GMG Automotive is having a Grand opening at our new shop i
 n the Buford area. We encourage show cars, race cars any and every car
  or truck is welcome. We will be cooking hot dogs and burgers from 12-
 2 so come hungry. Don't forget to invite your friends.   For more inf
 ormation for vendors or questions call the shop.   +1 (470) 589-7315\
 n\nFor more information visit https://www.southeastwheelsevents.com/ev
 ents/gmg-automotive-perfromance-grand-opening
DTSTART;TZID=Pacific/Midway:20161023T120000
DTEND;TZID=Pacific/Midway:20161023T190000
CATEGORIES:grand, opening
LOCATION:Buford, GA
WEBSITE:
URL:
CONTACT:4705897315
ORGANIZER;CN="George McKee Grob":https://www.southeastwheelsevents.com
 /profile/GeorgeMcKeeGrob
ATTACH;FMTTYPE="image/jpeg":http://storage.ning.com/topology/rest/1.0/
 file/get/967715777?profile=original
ATTENDEE;ROLE=REQ-PARTICIPANT;PARTSTAT=ACCEPTED;RSVP=TRUE;CN="George M
 cKee Grob":https://www.southeastwheelsevents.com/profile/GeorgeMcKeeGr
 ob
END:VEVENT
END:VCALENDAR
