BEGIN:VCALENDAR
PRODID:NingEventWidget-v1
VERSION:2.0
METHOD:PUBLISH
BEGIN:VTIMEZONE
TZID:Pacific/Midway
X-LIC-LOCATION:Pacific/Midway
BEGIN:STANDARD
TZOFFSETFROM:-1100
TZOFFSETTO:-1100
TZNAME:SST
DTSTART:19700101T000000
END:STANDARD
END:VTIMEZONE
BEGIN:VEVENT
UID:5072275:Event:1076979
DTSTAMP:20260424T041315Z
SUMMARY:“Going for the Gold” Judging Clinic -Dacula, GA
DESCRIPTION:At the January meeting our resident MCA National Gold Card
  Judge, Steve Harrison, offered to conduct a workshop about preparing 
 your car to be judged at a MCA National Show.\r\nThe NE Georgia Mustan
 g Club is pleased to announce that a “Going for the Gold” Judging 
 Clinic will take place on February 24th from 2:00 PM to 4:00 PM.\r\nSt
 eve will discuss general judging guidelines such as the new 2018 scori
 ng process for Occasional Drivers and Daily Drivers; how judges score 
 your car; judging professionalism and the different levels of judges t
 hat make up the judging team.  Steve, along with Rick Schmidt and Kei
 th Corkern will describe the tools and techniques that they use on the
 ir own prize-winning cars and will, if requested, informally judge you
 r show car to give you an idea of what areas of your car may need atte
 ntion.\r\nWhether you are thinking about attending your first MCA Nati
 onal Mustang show and are wondering how to achieve a top score at a ju
 dged show; this clinic is for you.\r\nThe clinic will take place at St
 eve and Jan Harrison’s home at 4211 Lantern Hill Drive, Dacula, GA 3
 0019 on February 24th from 2:00 PM to 4:00 PM.\r\nIf you’re interest
 ed, we’d like to have an approximate head count so please send an e-
 mail to Steve at steve66shelby@gmail.com and let him know you are pl
 anning on attending.\n\nFor more information visit https://www.southea
 stwheelsevents.com/events/going-for-the-gold-judging-clinic-dacula-ga
DTSTART;TZID=Pacific/Midway:20180224T140000
DTEND;TZID=Pacific/Midway:20180224T160000
CATEGORIES:car, show
LOCATION:Steve and Jan Harrison’s home
WEBSITE:http://www.negeorgiamustangclub.org
URL:http://www.negeorgiamustangclub.org
CONTACT:678-371-5799, steve66shelby@gmail.com
ORGANIZER:Rick Hayslip
ATTACH;FMTTYPE="image/jpeg":http://storage.ning.com/topology/rest/1.0/
 file/get/967764750?profile=original
ATTENDEE;ROLE=REQ-PARTICIPANT;PARTSTAT=ACCEPTED;RSVP=TRUE;CN="Chuck Aa
 ron":https://www.southeastwheelsevents.com/profile/ChuckAaron886
END:VEVENT
END:VCALENDAR
