BEGIN:VCALENDAR
PRODID:NingEventWidget-v1
VERSION:2.0
METHOD:PUBLISH
BEGIN:VTIMEZONE
TZID:Pacific/Midway
X-LIC-LOCATION:Pacific/Midway
BEGIN:STANDARD
TZOFFSETFROM:-1100
TZOFFSETTO:-1100
TZNAME:SST
DTSTART:19700101T000000
END:STANDARD
END:VTIMEZONE
BEGIN:VEVENT
UID:5072275:Event:1024869
DTSTAMP:20260424T065927Z
SUMMARY:Golden City Cruisers Car Club Cruise-in at Villa Rica Main Str
 eet Office
DESCRIPTION:Club Cruise-in will be held at Villa Rica Main Street Offi
 ce, Villa Rica, GA. Free to participants and guests. Come enjoy the fa
 mily fun with Food, Games, Good People, and Great Cars, Trucks, and Bi
 kes. Cruise-In starts at 5.00pm and ends at 7.30pm.\n\nFor more inform
 ation visit https://www.southeastwheelsevents.com/events/golden-city-c
 ruisers-car-club-cruise-in-at-villa-rica-main-street
DTSTART;TZID=Pacific/Midway:20161217T170000
DTEND;TZID=Pacific/Midway:20161217T193000
CATEGORIES:cars, motorcycles, trucks, "clubs/shows/cruises"
LOCATION:Villa Rica Main Street Office
WEBSITE:http://www.goldencitycruisers.com/eventscalendar.html
URL:http://www.goldencitycruisers.com/eventscalendar.html
CONTACT:
ORGANIZER:Golden City Cruisers Car Club
ATTACH;FMTTYPE="image/jpeg":
ATTENDEE;ROLE=REQ-PARTICIPANT;PARTSTAT=ACCEPTED;RSVP=TRUE;CN="Chris go
 sney":https://www.southeastwheelsevents.com/profile/Chrisgosney
END:VEVENT
END:VCALENDAR
