BEGIN:VCALENDAR
PRODID:NingEventWidget-v1
VERSION:2.0
METHOD:PUBLISH
BEGIN:VTIMEZONE
TZID:Pacific/Midway
X-LIC-LOCATION:Pacific/Midway
BEGIN:STANDARD
TZOFFSETFROM:-1100
TZOFFSETTO:-1100
TZNAME:SST
DTSTART:19700101T000000
END:STANDARD
END:VTIMEZONE
BEGIN:VEVENT
UID:5072275:Event:1266310
DTSTAMP:20260423T162813Z
SUMMARY:Golden City Cruisers Cruise In 106 Temple St Villa Rica, Ga
DESCRIPTION:The Golden City Cruisers will have their 25th season openi
 ng cruise in Saturday, March 15, from 5-8 P M at The Mill, 106 Temple 
 Street, in Villa Rica. There will be games for the kids, food vendors,
  and lots of classic cars. There is never an admission charge so bring
  the family and enjoy a fun evening. All proceeds go to local charitie
 s. No pets please. For more information check our web site: goldencity
 cruisers.com.\n\nFor more information visit https://www.southeastwheel
 sevents.com/events/golden-city-cruisers-cruise-in-106-temple-st-villa-
 rica-ga-10
DTSTART;TZID=Pacific/Midway:20250315T170000
DTEND;TZID=Pacific/Midway:20250315T193000
CATEGORIES:cruise, in
LOCATION:The Mill,
WEBSITE:http://goldencitycruisers.com
URL:http://goldencitycruisers.com
CONTACT:
ORGANIZER;CN="dave kopp":https://www.southeastwheelsevents.com/profile
 /davekopp
ATTACH;FMTTYPE="image/jpeg":https://storage.ning.com/topology/rest/1.0
 /file/get/11143341466?profile=original
ATTENDEE;ROLE=REQ-PARTICIPANT;PARTSTAT=ACCEPTED;RSVP=TRUE;CN="dave kop
 p":https://www.southeastwheelsevents.com/profile/davekopp
END:VEVENT
END:VCALENDAR
