BEGIN:VCALENDAR
PRODID:NingEventWidget-v1
VERSION:2.0
METHOD:PUBLISH
BEGIN:VTIMEZONE
TZID:Pacific/Midway
X-LIC-LOCATION:Pacific/Midway
BEGIN:STANDARD
TZOFFSETFROM:-1100
TZOFFSETTO:-1100
TZNAME:SST
DTSTART:19700101T000000
END:STANDARD
END:VTIMEZONE
BEGIN:VEVENT
UID:5072275:Event:1269058
DTSTAMP:20260421T105818Z
SUMMARY:Golden City Cruisers Cruise In 106 Temple St Villa Rica, Ga
DESCRIPTION:The Golden City Cruisers will have their monthly cruise Sa
 turday, July 12th, from 5-7 P M at The Mill, 106 Temple Street, in Vil
 la Rica. There will be games for the kids, food vendors, and lots of c
 lassic cars. There is never an admission charge so bring the family an
 d enjoy a fun evening. All proceeds go to local charities. No pets ple
 ase. For more information check our web site: goldencitycruisers.com.\
 nPlease note the cruise in is the second Saturday for the month of Jul
 y.\n\nFor more information visit https://www.southeastwheelsevents.com
 /events/golden-city-cruisers-cruise-in-106-temple-st-villa-rica-ga-14
DTSTART;TZID=Pacific/Midway:20250712T170000
DTEND;TZID=Pacific/Midway:20250712T190000
CATEGORIES:cruise, in
LOCATION:The Mill,
WEBSITE:http://goldencitycruisers.com
URL:http://goldencitycruisers.com
CONTACT:
ORGANIZER;CN="dave kopp":https://www.southeastwheelsevents.com/profile
 /davekopp
ATTACH;FMTTYPE="image/jpeg":https://storage.ning.com/topology/rest/1.0
 /file/get/11143341466?profile=original
ATTENDEE;ROLE=REQ-PARTICIPANT;PARTSTAT=ACCEPTED;RSVP=TRUE;CN="dave kop
 p":https://www.southeastwheelsevents.com/profile/davekopp
END:VEVENT
END:VCALENDAR
