BEGIN:VCALENDAR
PRODID:NingEventWidget-v1
VERSION:2.0
METHOD:PUBLISH
BEGIN:VTIMEZONE
TZID:Pacific/Midway
X-LIC-LOCATION:Pacific/Midway
BEGIN:STANDARD
TZOFFSETFROM:-1100
TZOFFSETTO:-1100
TZNAME:SST
DTSTART:19700101T000000
END:STANDARD
END:VTIMEZONE
BEGIN:VEVENT
UID:5072275:Event:1257780
DTSTAMP:20260422T052255Z
SUMMARY:Golden City Cruisers Cruise In 106 Temple St Villa Rica, Ga
DESCRIPTION:The Golden City Cruisers will have their monthly cruise in
  Saturday, July 13, from 5-8 P M at The Mill, 106 Temple Street, in Vi
 lla Rica.\nNOTE: This is a one-time change to the second Saturday due 
 to a scheduling conflict.\nThere will be games for the kids, food vend
 ors, and lots of classic cars. There is never an admission charge so b
 ring the family and enjoy a fun evening. All proceeds go to local char
 ities. No pets please. For more information check our web site: golden
 citycruisers.com.\n\nFor more information visit https://www.southeastw
 heelsevents.com/events/golden-city-cruisers-cruise-in-106-temple-st-vi
 lla-rica-ga-7
DTSTART;TZID=Pacific/Midway:20240713T170000
DTEND;TZID=Pacific/Midway:20240713T200000
CATEGORIES:cruise, in
LOCATION:The Mill,
WEBSITE:http://goldencitycruisers.com
URL:http://goldencitycruisers.com
CONTACT:770-380-8782
ORGANIZER;CN="dave kopp":https://www.southeastwheelsevents.com/profile
 /davekopp
ATTACH;FMTTYPE="image/jpeg":https://storage.ning.com/topology/rest/1.0
 /file/get/11143341466?profile=original
ATTENDEE;ROLE=REQ-PARTICIPANT;PARTSTAT=ACCEPTED;RSVP=TRUE;CN="dave kop
 p":https://www.southeastwheelsevents.com/profile/davekopp
END:VEVENT
END:VCALENDAR
