BEGIN:VCALENDAR
PRODID:NingEventWidget-v1
VERSION:2.0
METHOD:PUBLISH
BEGIN:VTIMEZONE
TZID:Pacific/Midway
X-LIC-LOCATION:Pacific/Midway
BEGIN:STANDARD
TZOFFSETFROM:-1100
TZOFFSETTO:-1100
TZNAME:SST
DTSTART:19700101T000000
END:STANDARD
END:VTIMEZONE
BEGIN:VEVENT
UID:5072275:Event:1165908
DTSTAMP:20260419T044309Z
SUMMARY:Golden City Cruisers Cruise In, Villa Rica, Ga
DESCRIPTION:\"The Golden City Cruisers will have a classic car cruise 
 in Saturday June 15, from 5 P M until 8 P M at The Mill in downtown Vi
 lla Rica. There will be food vendors, games for the kids, and lots of 
 classic cars. There is no admission fee so bring the family! All proce
 eds go to local charities. For more information see our web site golde
 ncitycruisers.com.\"\n\nFor more information visit https://www.southea
 stwheelsevents.com/events/golden-city-cruisers-cruise-in-villa-rica-ga
 -12
DTSTART;TZID=Pacific/Midway:20190615T170000
DTEND;TZID=Pacific/Midway:20190615T200000
CATEGORIES:classic, car, cruise, in
LOCATION:The Mil in l Villa Rica
WEBSITE:http://goldencitycruisers.com
URL:http://goldencitycruisers.com
CONTACT:770-380-8782
ORGANIZER;CN="dave kopp":https://www.southeastwheelsevents.com/profile
 /davekopp
ATTACH;FMTTYPE="image/jpeg":https://storage.ning.com/topology/rest/1.0
 /file/get/1502679648?profile=original
ATTENDEE;ROLE=REQ-PARTICIPANT;PARTSTAT=ACCEPTED;RSVP=TRUE;CN="dave kop
 p":https://www.southeastwheelsevents.com/profile/davekopp
END:VEVENT
END:VCALENDAR
