BEGIN:VCALENDAR
PRODID:NingEventWidget-v1
VERSION:2.0
METHOD:PUBLISH
BEGIN:VTIMEZONE
TZID:Pacific/Midway
X-LIC-LOCATION:Pacific/Midway
BEGIN:STANDARD
TZOFFSETFROM:-1100
TZOFFSETTO:-1100
TZNAME:SST
DTSTART:19700101T000000
END:STANDARD
END:VTIMEZONE
BEGIN:VEVENT
UID:5072275:Event:616690
DTSTAMP:20260421T051904Z
SUMMARY:Golden City Cruisers Cruise-In, Villa Rica, GA
DESCRIPTION:Come to \"The Mill\" in downtown Villa Rica for a monthly 
 Cruise-In, hosted by the Golden City Cruisers Car Club.  You'll find 
 good food, music, 50/50 drawings, cake walks, and great people!  Admi
 ssion is free, just come have a great time with folks.  We welcome ra
 t rods, customs, motorcycles, classics...anything with wheels!  The e
 vent is at \"The Mill\" amphitheater in the heart of the city, where H
 wy 61 meets Hwy 78 at the RR tracks.  Area restaurants and shops are 
 also available in walking distance.\n\nFor more information visit http
 s://www.southeastwheelsevents.com/events/golden-city-cruisers-cruise-i
 n-villa-rica-ga-2
DTSTART;TZID=Pacific/Midway:20130518T170000
DTEND;TZID=Pacific/Midway:20130518T200000
CATEGORIES:cruise-in
LOCATION:\"The Mill\" amphitheater
WEBSITE:http://www.goldencitycruisers.com
URL:http://www.goldencitycruisers.com
CONTACT:770-328-9663
ORGANIZER:Danny Davis
ATTACH;FMTTYPE="image/jpeg":http://storage.ning.com/topology/rest/1.0/
 file/get/967630823?profile=original
ATTENDEE;ROLE=REQ-PARTICIPANT;PARTSTAT=ACCEPTED;RSVP=TRUE;CN="Mac Brig
 ht":https://www.southeastwheelsevents.com/profile/MacBright
ATTENDEE;ROLE=REQ-PARTICIPANT;PARTSTAT=ACCEPTED;RSVP=TRUE;CN="Nick War
 e":https://www.southeastwheelsevents.com/profile/NickWare
END:VEVENT
END:VCALENDAR
