BEGIN:VCALENDAR
PRODID:NingEventWidget-v1
VERSION:2.0
METHOD:PUBLISH
BEGIN:VTIMEZONE
TZID:Pacific/Midway
X-LIC-LOCATION:Pacific/Midway
BEGIN:STANDARD
TZOFFSETFROM:-1100
TZOFFSETTO:-1100
TZNAME:SST
DTSTART:19700101T000000
END:STANDARD
END:VTIMEZONE
BEGIN:VEVENT
UID:5072275:Event:1238152
DTSTAMP:20260421T181827Z
SUMMARY:Golden City Cruisers Cruise In Villa Rica, Ga
DESCRIPTION:The Golden City Cruisers will have a cruise in Saturday, S
 eptember 17, from 5-8 P M at The Mill, 106 Temple Street, in Villa Ric
 a. There will be games for the kids, food vendors, and lots of classic
  cars. There is never an admission charge so bring the family and enjo
 y a fun evening. All proceeds go to local charities. No pets please. F
 or more information check our web site: goldencitycruisers.com.\n\nFor
  more information visit https://www.southeastwheelsevents.com/events/g
 olden-city-cruisers-cruise-in-villa-rica-ga-27
DTSTART;TZID=Pacific/Midway:20220917T170000
DTEND;TZID=Pacific/Midway:20220917T200000
CATEGORIES:cruise, in
LOCATION:The Mill
WEBSITE:http://goldencitycruisers.com
URL:http://goldencitycruisers.com
CONTACT:
ORGANIZER;CN="dave kopp":https://www.southeastwheelsevents.com/profile
 /davekopp
ATTACH;FMTTYPE="image/jpeg":https://storage.ning.com/topology/rest/1.0
 /file/get/10784579054?profile=original
ATTENDEE;ROLE=REQ-PARTICIPANT;PARTSTAT=ACCEPTED;RSVP=TRUE;CN="dave kop
 p":https://www.southeastwheelsevents.com/profile/davekopp
END:VEVENT
END:VCALENDAR
