BEGIN:VCALENDAR
PRODID:NingEventWidget-v1
VERSION:2.0
METHOD:PUBLISH
BEGIN:VTIMEZONE
TZID:Pacific/Midway
X-LIC-LOCATION:Pacific/Midway
BEGIN:STANDARD
TZOFFSETFROM:-1100
TZOFFSETTO:-1100
TZNAME:SST
DTSTART:19700101T000000
END:STANDARD
END:VTIMEZONE
BEGIN:VEVENT
UID:5072275:Event:789187
DTSTAMP:20260421T185347Z
SUMMARY:Golden Era Motors Official Tour - Atlanta Motor Speedway
DESCRIPTION:Golden Era Motors provides the ultimate muscle car driving
  experience with some of the hottest rides from the 60s and 70s! Conta
 ct Tyler at 904-442-1763 or email drive@goldeneramotors.com and mentio
 n southeastwheelsevents.com to get a huge deal on a GEM CRUIZE PASS to
 day for the event!\nCheck out the video to see what a GEM CRUIZE is al
 l about: GEM CRUIZE VIDEO\n\nFor more information visit https://www.so
 utheastwheelsevents.com/events/golden-era-motors-official-tour-atlanta
 -motor-speedway
DTSTART;TZID=Pacific/Midway:20140919T000000
DTEND;TZID=Pacific/Midway:20140921T235900
CATEGORIES:ultimate, muscle, car, driving, experience
LOCATION:Atlanta Motor Speedway
WEBSITE:http://www.goldeneramotors.com/atlanta-motor-speedway-2/
URL:http://www.goldeneramotors.com/atlanta-motor-speedway-2/
CONTACT:904-442-1763
ORGANIZER;CN="Golden Era Motors":https://www.southeastwheelsevents.com
 /profile/GoldenEraMotors
ATTACH;FMTTYPE="image/jpeg":http://storage.ning.com/topology/rest/1.0/
 file/get/967662261?profile=original
ATTENDEE;ROLE=REQ-PARTICIPANT;PARTSTAT=ACCEPTED;RSVP=TRUE;CN="Golden E
 ra Motors":https://www.southeastwheelsevents.com/profile/GoldenEraMoto
 rs
END:VEVENT
END:VCALENDAR
