BEGIN:VCALENDAR
PRODID:NingEventWidget-v1
VERSION:2.0
METHOD:PUBLISH
BEGIN:VTIMEZONE
TZID:Pacific/Midway
X-LIC-LOCATION:Pacific/Midway
BEGIN:STANDARD
TZOFFSETFROM:-1100
TZOFFSETTO:-1100
TZNAME:SST
DTSTART:19700101T000000
END:STANDARD
END:VTIMEZONE
BEGIN:VEVENT
UID:5072275:Event:515548
DTSTAMP:20260423T125451Z
SUMMARY:Golden Leaf Festival Car Truck & Tractor Show Mullins, SC 2957
 4
DESCRIPTION:All Years welcome-25 classes-Trophy top 3 each class-door 
 prizes-$20 reg. fee-\n\nFor more information visit https://www.southea
 stwheelsevents.com/events/golden-leaf-festival-car-truck-tractor-show-
 mullins-sc-1
DTSTART;TZID=Pacific/Midway:20130928T080000
DTEND;TZID=Pacific/Midway:20130928T170000
CATEGORIES:car, show, "&", festival
LOCATION:Anderson Brothers Bank
WEBSITE:
URL:
CONTACT:843-430-0159
ORGANIZER;CN="Luther Johnson":https://www.southeastwheelsevents.com/pr
 ofile/LutherJohnson
ATTACH;FMTTYPE="image/jpeg":
ATTENDEE;ROLE=REQ-PARTICIPANT;PARTSTAT=ACCEPTED;RSVP=TRUE;CN="Luther J
 ohnson":https://www.southeastwheelsevents.com/profile/LutherJohnson
END:VEVENT
END:VCALENDAR
