BEGIN:VCALENDAR
PRODID:NingEventWidget-v1
VERSION:2.0
METHOD:PUBLISH
BEGIN:VTIMEZONE
TZID:Pacific/Midway
X-LIC-LOCATION:Pacific/Midway
BEGIN:STANDARD
TZOFFSETFROM:-1100
TZOFFSETTO:-1100
TZNAME:SST
DTSTART:19700101T000000
END:STANDARD
END:VTIMEZONE
BEGIN:VEVENT
UID:5072275:Event:929280
DTSTAMP:20260425T084356Z
SUMMARY:Golden Strip Shriners Car Show -Greenville, SC
DESCRIPTION:The Golden Strip Shriners will host an auto show Saturday.
  Good music, food and a great time. For questions you may have or inf
 o. call 864-238-9655.\n\nFor more information visit https://www.southe
 astwheelsevents.com/events/golden-strip-shriners-car-show-mauldin-sc
DTSTART;TZID=Pacific/Midway:20170401T100000
DTEND;TZID=Pacific/Midway:20170401T150000
CATEGORIES:shriners, fundraiser
LOCATION:245 Laurens Road
WEBSITE:http://greenvillemodelers@hotmail.com
URL:http://greenvillemodelers@hotmail.com
CONTACT:864-238-9655
ORGANIZER:Golden Strip Shriners
ATTACH;FMTTYPE="image/jpeg":
ATTENDEE;ROLE=REQ-PARTICIPANT;PARTSTAT=ACCEPTED;RSVP=TRUE;CN="Chuck Aa
 ron":https://www.southeastwheelsevents.com/profile/ChuckAaron886
ATTENDEE;ROLE=REQ-PARTICIPANT;PARTSTAT=ACCEPTED;RSVP=TRUE;CN="Jeff Nea
 l":https://www.southeastwheelsevents.com/profile/2mxc9smiyn4z2
END:VEVENT
END:VCALENDAR
