BEGIN:VCALENDAR
PRODID:NingEventWidget-v1
VERSION:2.0
METHOD:PUBLISH
BEGIN:VTIMEZONE
TZID:Pacific/Midway
X-LIC-LOCATION:Pacific/Midway
BEGIN:STANDARD
TZOFFSETFROM:-1100
TZOFFSETTO:-1100
TZNAME:SST
DTSTART:19700101T000000
END:STANDARD
END:VTIMEZONE
BEGIN:VEVENT
UID:5072275:Event:1025530
DTSTAMP:20260419T121232Z
SUMMARY:Good News Riders Monthly Meeting
DESCRIPTION:Good News Riders Monthly Meeting will be held at Steve's S
 teak House, Newport News, VA. Dinner starts at 6.00pm. Meeting starts 
 at 7.00pm. End time may change.\n\nFor more information visit https://
 www.southeastwheelsevents.com/events/good-news-riders-monthly-meeting
DTSTART;TZID=Pacific/Midway:20161227T180000
DTEND;TZID=Pacific/Midway:20161227T200000
CATEGORIES:motorcycles, "clubs/shows/cruises"
LOCATION:Steve's Steak House
WEBSITE:http://cmaner5.org/VA/GOODNEWSRIDERS/meeting-info.aspx
URL:http://cmaner5.org/VA/GOODNEWSRIDERS/meeting-info.aspx
CONTACT:
ORGANIZER:Good News Riders
ATTACH;FMTTYPE="image/jpeg":http://storage.ning.com/topology/rest/1.0/
 file/get/967720380?profile=original
ATTENDEE;ROLE=REQ-PARTICIPANT;PARTSTAT=ACCEPTED;RSVP=TRUE;CN="Chris go
 sney":https://www.southeastwheelsevents.com/profile/Chrisgosney
END:VEVENT
END:VCALENDAR
