BEGIN:VCALENDAR
PRODID:NingEventWidget-v1
VERSION:2.0
METHOD:PUBLISH
BEGIN:VTIMEZONE
TZID:Pacific/Midway
X-LIC-LOCATION:Pacific/Midway
BEGIN:STANDARD
TZOFFSETFROM:-1100
TZOFFSETTO:-1100
TZNAME:SST
DTSTART:19700101T000000
END:STANDARD
END:VTIMEZONE
BEGIN:VEVENT
UID:5072275:Event:511617
DTSTAMP:20260419T182215Z
SUMMARY:GoodGuys Nashville Nationals - Nashville, TN
DESCRIPTION:8th Nashville Nationals\nMay 17, 18, 19, 2012, Nashville,
  TN, LP Field, Titan Stadium\nSpecial Notice\nClick here to download 
 the Nashville Nationals \"Road Closure\"  Details & Map  \nwww.titans
 online.com\nEvent Hours\nFriday, May 18: 8am to 5pm Saturday, May 19: 
 8am to 5pm Sunday, May 20: 8am to 3pm\nBuy Tickets\nRegistration Info\
 nVEHICLE REGISTRATION INFORMATION Goodguys Giant Car Shows are the pla
 ce to be and definitely the place to be seen! For all vehicles 1972 an
 d older, we offer the opportunity for you to participate in and displa
 y your vehicle at the show with a “Show & Shine Registration” good
  for all three days of the event. And for the car guys and gals who ow
 n a vehicle newer than our traditional 1972 cut-off date, we offer the
  all-new “Super Sunday Get-Together Registration” for all years of
  American made and/or powered vehicles on Sunday only. Both options co
 me with space to display your car as well as a Goodguys Goodie Bag, Ti
 ckets to the event, Children’s Passes, the chance to win a Goodguys 
 Award and more!   SHOW & SHINE REGISTRATION (PRE-1972 VEHICLES ONLY) 
 To display your vehicle in our Show & Shine, you need to be a Goodguys
  Member. If you’re currently a Goodguys Member, you can display your
  vehicle all three days of the show for just $55 or save $10 off the r
 egistration cost and pay only $45 if you pre-register before pre-regis
 tration closes for this event on 5/4/12.   Not a Goodguys member? No 
 problem! Non-members can sign-up to become a member for as little as $
 20 (digital membership) or $35 (full membership). Your Goodguys member
 ship not only gets you 12 monthly digital or hard-copy issues of the G
 oodguys Gazette Magazine, it also gets you loads of exclusive Goodguys
  Members-Only benefits and perks including discounts on car registrati
 ons and merchandise, a personalized ID card and more! Click Here To B
 ecome A Member Today!  Click Here To Print a Pre-Registration Form And
  Save $10 Off The At Event Price! \n\n\nFor more information visit ht
 tps://www.southeastwheelsevents.com/events/goodguys-nashville-national
 s-nashville-tn
DTSTART;TZID=Pacific/Midway:20130517T000000
DTEND;TZID=Pacific/Midway:20130519T235900
CATEGORIES:car-show
LOCATION:Titan Stadium
WEBSITE:http://www.good-guys.com/
URL:http://www.good-guys.com/
CONTACT:925-838-9876
ORGANIZER:Good Guys
ATTACH;FMTTYPE="image/jpeg":http://storage.ning.com/topology/rest/1.0/
 file/get/967615841?profile=original
ATTENDEE;ROLE=REQ-PARTICIPANT;PARTSTAT=ACCEPTED;RSVP=TRUE;CN="Michael 
 Thies":https://www.southeastwheelsevents.com/profile/MichaelThies
END:VEVENT
END:VCALENDAR
