BEGIN:VCALENDAR
PRODID:NingEventWidget-v1
VERSION:2.0
METHOD:PUBLISH
BEGIN:VTIMEZONE
TZID:Pacific/Midway
X-LIC-LOCATION:Pacific/Midway
BEGIN:STANDARD
TZOFFSETFROM:-1100
TZOFFSETTO:-1100
TZNAME:SST
DTSTART:19700101T000000
END:STANDARD
END:VTIMEZONE
BEGIN:VEVENT
UID:5072275:Event:14973
DTSTAMP:20260425T091909Z
SUMMARY:GoodGuys Nashville Nationals -Lebanon, TN
DESCRIPTION:GoodGuys Nashville NationalsThis Goodguys car show is on M
 ay 13-15, 2022 at the Nashville Speedway in Lebanon, Tennessee. We’r
 e back for the sixteenth year to rock in Music City USA! Always a grea
 t event at a great location\r\nWe’re back for the sixteenth year to 
 rock in Music City USA! Always a great event at a great location. Chec
 k out all the event information below and get ready for the good times
 !\r\nGeneral Admission Tickets are $25.00 and $20.00 if you are a Good
 guys member.\r\nShow Features\r\nOver 2,500 Rods, Customs, Classics, M
 uscle Cars and Trucks thru ’97Goodguys AutoCross – Featuring the A
 utocross series [TBD] “Music City Mayhem” ShootoutCrowning of the 
 Goodguys 2022 Tank’s Hot Rod of the Year AwardNitro Thunderfest Drag
 ster ExhibitionBurn Out CompetitionSwap Meet & Cars 4 Sale CorralVarie
 ty of Food Trucks and Food Court options\n\nFor more information visit
  https://www.southeastwheelsevents.com/events/goodguys-nashville-natio
 nals
DTSTART;TZID=Pacific/Midway:20220513T000000
DTEND;TZID=Pacific/Midway:20220515T235900
CATEGORIES:cruise-in, car, show, swap, meet
LOCATION:Nashville Speedway
WEBSITE:https://www.good-guys.com/events/2022-events
URL:https://www.good-guys.com/events/2022-events
CONTACT:(925) 838-9876
ORGANIZER:GoodGuys
ATTACH;FMTTYPE="image/jpeg":http://storage.ning.com/topology/rest/1.0/
 file/get/967576022?profile=original
ATTENDEE;ROLE=REQ-PARTICIPANT;PARTSTAT=ACCEPTED;RSVP=TRUE;CN="Michael 
 Thies":https://www.southeastwheelsevents.com/profile/MichaelThies
END:VEVENT
END:VCALENDAR
