BEGIN:VCALENDAR
PRODID:NingEventWidget-v1
VERSION:2.0
METHOD:PUBLISH
BEGIN:VTIMEZONE
TZID:Pacific/Midway
X-LIC-LOCATION:Pacific/Midway
BEGIN:STANDARD
TZOFFSETFROM:-1100
TZOFFSETTO:-1100
TZNAME:SST
DTSTART:19700101T000000
END:STANDARD
END:VTIMEZONE
BEGIN:VEVENT
UID:5072275:Event:832105
DTSTAMP:20260424T152518Z
SUMMARY:Governors Gun Club 1st Annual Car Show
DESCRIPTION:Governors Gun Club 1st Annual Car Show\nOpen Car, Truck/Je
 ep, Motorcycle\nSaturday, October 18th\nRegistration: $25 ($20 GCC Mem
 bers) 10:00 - 12:30\nPrizes, Entertainment, Food & Drinks\nJudging:Â  
 1:00 - 3:30; Awards presented at 4:00\nClass Winners (4 classes), Best
  In Show, People's Choice\nProceeds go to Charity\nWhere:Â  Governors 
 Gun Club\nÂ Â Â Â Â Â Â Â Â Â Â Â Â  5740 C.H. James Parkway (Hwy 278)
 \nÂ Â Â Â Â Â Â Â Â Â Â Â Â  Powder Springs, GA\nContact Information:Â
   (678) 384-0005 www.governorsgunclub.com\n\n\n\nFor more information 
 visit https://www.southeastwheelsevents.com/events/governors-gun-club-
 1st-annual-car-show
DTSTART;TZID=Pacific/Midway:20141018T100000
DTEND;TZID=Pacific/Midway:20141018T160000
CATEGORIES:open, car, truck, motorcycle, show
LOCATION:Governors Gun Club
WEBSITE:http://www.governorsgunclub.com
URL:http://www.governorsgunclub.com
CONTACT:(678) 384-0005
ORGANIZER:Kristina Brown
ATTACH;FMTTYPE="image/jpeg":
ATTENDEE;ROLE=REQ-PARTICIPANT;PARTSTAT=ACCEPTED;RSVP=TRUE;CN="Keith We
 lls":https://www.southeastwheelsevents.com/profile/KeithWells
END:VEVENT
END:VCALENDAR
