BEGIN:VCALENDAR
PRODID:NingEventWidget-v1
VERSION:2.0
METHOD:PUBLISH
BEGIN:VTIMEZONE
TZID:Pacific/Midway
X-LIC-LOCATION:Pacific/Midway
BEGIN:STANDARD
TZOFFSETFROM:-1100
TZOFFSETTO:-1100
TZNAME:SST
DTSTART:19700101T000000
END:STANDARD
END:VTIMEZONE
BEGIN:VEVENT
UID:5072275:Event:910304
DTSTAMP:20260422T185836Z
SUMMARY:Grainger County Ridge Runners Club Meeting -Rutledge, TN
DESCRIPTION:Our club was formed in October 1988. It was designed to be
  a family oriented club and has thrived by doing so. We are now doing 
 various cruise-outs to other counties, cruise-ins and attending variou
 s car shows from other counties, frying green tomatoes and giving dona
 tions to various charities. Whether done individually or as a group, w
 e try to just have FUN! Most members have at least one antique vehicle
  in which to take on the cruise-outs and some have several; although y
 ou are not required to have any in order to become a member. The cars 
 / trucks range from as early as 1930's to present day styles.\nSecond 
 Thursday, 2015 7:00 PM - 8:00 PM  Monthly on the second Thursday, unt
 il October 15, 2015  Down Home Restaurant, Rutledge TN \nMonthly Cl
 ub Meeting\n\n \n\nFor more information visit https://www.southeastwh
 eelsevents.com/events/grainger-county-ridge-runners-club-meeting-rutle
 dge-tn
DTSTART;TZID=Pacific/Midway:20150813T180000
DTEND;TZID=Pacific/Midway:20150813T200000
CATEGORIES:club-meeting
LOCATION:Down Home Resteraunt
WEBSITE:http://www.graingercountyridgerunnerscarclub.com/
URL:http://www.graingercountyridgerunnerscarclub.com/
CONTACT:Rodney 865-302-1137, Ken 865-828-3616
ORGANIZER:Grainger County Ridge Runners
ATTACH;FMTTYPE="image/jpeg":http://storage.ning.com/topology/rest/1.0/
 file/get/967666419?profile=original
ATTENDEE;ROLE=REQ-PARTICIPANT;PARTSTAT=ACCEPTED;RSVP=TRUE;CN="Chuck Aa
 ron":https://www.southeastwheelsevents.com/profile/ChuckAaron
END:VEVENT
END:VCALENDAR
