BEGIN:VCALENDAR
PRODID:NingEventWidget-v1
VERSION:2.0
METHOD:PUBLISH
BEGIN:VTIMEZONE
TZID:Pacific/Midway
X-LIC-LOCATION:Pacific/Midway
BEGIN:STANDARD
TZOFFSETFROM:-1100
TZOFFSETTO:-1100
TZNAME:SST
DTSTART:19700101T000000
END:STANDARD
END:VTIMEZONE
BEGIN:VEVENT
UID:5072275:Event:983373
DTSTAMP:20260423T051635Z
SUMMARY:Grainger County Ridge Runners Monthly Cruise In -Rutledge, TN
DESCRIPTION:Friday  6:00 PM - 8:00 PM  Monthly on the third Friday, 
 until October 2016 \nRegular Monthly Cruise-in @ Hardee's in Rutledge
 .. Bring your car or simply just come look at ours.\nIn the event of r
 ain: Cruise-in will be cancelled. \n\nOur club was formed in October 
 1988. It was designed to be a family oriented club and has thrived by 
 doing so. We are now doing various cruise-outs to other counties, crui
 se-ins at and, attending various car shows from other counties, frying
  green tomatoes and giving donations to various charities. Whether don
 e individually or as a group, we try to just have FUN! Most members ha
 ve at least one antique vehicle in which to take on the cruise-outs an
 d some have several; although you are not required to have any in orde
 r to become a member. The cars / trucks range from as early as 1930's 
 to present day styles.\nSecond Thursday, 6:00 PM - 8:00 PM  Monthly o
 n the second Thursday, until October  2016 Down Home Restaurant, Rut
 ledge TN \nMonthly Club Meeting\n\n \n\nFor more information visit h
 ttps://www.southeastwheelsevents.com/events/grainger-county-ridge-runn
 ers-monthly-cruise-in-rutledge-tn-5
DTSTART;TZID=Pacific/Midway:20160715T180000
DTEND;TZID=Pacific/Midway:20160715T200000
CATEGORIES:monthly, cruise-in
LOCATION:Hardee's in Rutledge
WEBSITE:http://www.graingercountyridgerunnerscarclub.com/
URL:http://www.graingercountyridgerunnerscarclub.com/
CONTACT:Rodney 865-302-1137, Ken 865-828-3616
ORGANIZER:Grainger County Ridge Runners
ATTACH;FMTTYPE="image/jpeg":http://storage.ning.com/topology/rest/1.0/
 file/get/967666419?profile=original
ATTENDEE;ROLE=REQ-PARTICIPANT;PARTSTAT=ACCEPTED;RSVP=TRUE;CN="Chuck Aa
 ron":https://www.southeastwheelsevents.com/profile/ChuckAaron
END:VEVENT
END:VCALENDAR
