BEGIN:VCALENDAR
PRODID:NingEventWidget-v1
VERSION:2.0
METHOD:PUBLISH
BEGIN:VTIMEZONE
TZID:Pacific/Midway
X-LIC-LOCATION:Pacific/Midway
BEGIN:STANDARD
TZOFFSETFROM:-1100
TZOFFSETTO:-1100
TZNAME:SST
DTSTART:19700101T000000
END:STANDARD
END:VTIMEZONE
BEGIN:VEVENT
UID:5072275:Event:546950
DTSTAMP:20260422T065258Z
SUMMARY:GRAND OPENING & CAR MEET ODENVILLE, AL
DESCRIPTION:SPARKLES DETAIL WILL BE HAVING THEIR GRAND OPENING FOR THE
  NEW DETAIL SHOP AND CROFTGATE USA ECO-FRIENDLY HIGH PERFORMANCE CAR C
 ARE PRODUCTS STORE FRONT ON\nSATURDAY SEPTEMBER 1ST 2012   5PM TILL 
 9 PM\nTHE FIRST 40 PARTICIPANTS JOINING IN THE CAR MEET\n(ALL CARS/BIK
 ES/TRUCKS INCLUDED)\nWILL RECEIVE A FREE KOOZIE SAMPLE PACKET OF\nCROF
 TGATE USA PRODUCTS!!\nFRATELLI’S WILL HAVE PIZZA AND DRINKS ON SITE 
 AND A FULL MENU AVAILABLE FOR DELIVERY\n(205) 629-6296!!\nDJ JEFF RUTH
 ERFORD FROM COVINGTON, GA!!\nTHERE WILL BE 2 SPARKLES DETAIL/CROFTGATE
  USA BUCKET DEALS ALONG WITH 2 FRATELLI’S COUPONS GIVEN AWAY AT THE 
 END OF THE MEET FOR THE 2 BEST OF MEET VEHICLES!!\nCOME OUT AND JOIN U
 S!!\n14370 US HIGHWAY 411 (UNIT 3 & 4) ODENVILLE, AL 35120\n(205)629-3
 889 OR (205) 520-6402\nWWW.SPARKLESDETAIL.COM\n\nFor more information 
 visit https://www.southeastwheelsevents.com/events/grand-opening-car-m
 eet-odenville-al
DTSTART;TZID=Pacific/Midway:20120901T170000
DTEND;TZID=Pacific/Midway:20120901T210000
CATEGORIES:grand, opening, "&", car, meet
LOCATION:SPARKLES DETAIL
WEBSITE:http://WWW.SPARKLESDETAIL.COM
URL:http://WWW.SPARKLESDETAIL.COM
CONTACT:205-520-6402 OR 205-629-3889
ORGANIZER;CN="TIM & TONYIA MORRIS":https://www.southeastwheelsevents.c
 om/profile/TIMTONYIAMORRIS
ATTACH;FMTTYPE="image/jpeg":http://storage.ning.com/topology/rest/1.0/
 file/get/967624592?profile=original
ATTENDEE;ROLE=REQ-PARTICIPANT;PARTSTAT=ACCEPTED;RSVP=TRUE;CN="Jeff Rut
 herford":https://www.southeastwheelsevents.com/profile/JeffreyRutherfo
 rd
ATTENDEE;ROLE=REQ-PARTICIPANT;PARTSTAT=ACCEPTED;RSVP=TRUE;CN="TIM & TO
 NYIA MORRIS":https://www.southeastwheelsevents.com/profile/TIMTONYIAMO
 RRIS
END:VEVENT
END:VCALENDAR
