BEGIN:VCALENDAR
PRODID:NingEventWidget-v1
VERSION:2.0
METHOD:PUBLISH
BEGIN:VTIMEZONE
TZID:Pacific/Midway
X-LIC-LOCATION:Pacific/Midway
BEGIN:STANDARD
TZOFFSETFROM:-1100
TZOFFSETTO:-1100
TZNAME:SST
DTSTART:19700101T000000
END:STANDARD
END:VTIMEZONE
BEGIN:VEVENT
UID:5072275:Event:1222457
DTSTAMP:20260420T161113Z
SUMMARY:Grand Opening Crusie In - Franklin, TN
DESCRIPTION:Main Point Detailing Grand Opening Crusie In - Franklin, 
 TN\n\nFor more information visit https://www.southeastwheelsevents.com
 /events/grand-opening-crusie-in-franklin-tn
DTSTART;TZID=Pacific/Midway:20210116T110000
DTEND;TZID=Pacific/Midway:20210116T160000
CATEGORIES:crusie-in, car, show, celebration
LOCATION:Main Point Detailing
WEBSITE:
URL:
CONTACT:949-325-4510
ORGANIZER:Main Point Detailing
ATTACH;FMTTYPE="image/jpeg":https://storage.ning.com/topology/rest/1.0
 /file/get/8408767658?profile=original
ATTENDEE;ROLE=REQ-PARTICIPANT;PARTSTAT=ACCEPTED;RSVP=TRUE;CN="Chuck Aa
 ron":https://www.southeastwheelsevents.com/profile/ChuckAaron886
END:VEVENT
END:VCALENDAR
