BEGIN:VCALENDAR
PRODID:NingEventWidget-v1
VERSION:2.0
METHOD:PUBLISH
BEGIN:VTIMEZONE
TZID:Pacific/Midway
X-LIC-LOCATION:Pacific/Midway
BEGIN:STANDARD
TZOFFSETFROM:-1100
TZOFFSETTO:-1100
TZNAME:SST
DTSTART:19700101T000000
END:STANDARD
END:VTIMEZONE
BEGIN:VEVENT
UID:5072275:Event:1250467
DTSTAMP:20260424T061817Z
SUMMARY:Granddaddy Mims Cruise in - Blairsville, GA
DESCRIPTION:Granddaddy Mims Music Festical and Cruise in - Blairsville
 , GA\n\nFor more information visit https://www.southeastwheelsevents.c
 om/events/granddaddy-mims-cruise-in-blairsville-ga
DTSTART;TZID=Pacific/Midway:20240727T110000
DTEND;TZID=Pacific/Midway:20240727T150000
CATEGORIES:cars, show, festival, family
LOCATION:Seasons End
WEBSITE:
URL:
CONTACT:Dick 706-400-1036
ORGANIZER:
ATTACH;FMTTYPE="image/jpeg":https://storage.ning.com/topology/rest/1.0
 /file/get/12161258463?profile=original
ATTENDEE;ROLE=REQ-PARTICIPANT;PARTSTAT=ACCEPTED;RSVP=TRUE;CN="Chuck Aa
 ron":https://www.southeastwheelsevents.com/profile/ChuckAaron886
END:VEVENT
END:VCALENDAR
