BEGIN:VCALENDAR
PRODID:NingEventWidget-v1
VERSION:2.0
METHOD:PUBLISH
BEGIN:VTIMEZONE
TZID:Pacific/Midway
X-LIC-LOCATION:Pacific/Midway
BEGIN:STANDARD
TZOFFSETFROM:-1100
TZOFFSETTO:-1100
TZNAME:SST
DTSTART:19700101T000000
END:STANDARD
END:VTIMEZONE
BEGIN:VEVENT
UID:5072275:Event:205419
DTSTAMP:20260420T035031Z
SUMMARY:Grandfather's Day @ Mike's \"A\" Fordable Parts -Maysville, GA
DESCRIPTION:Eighth Annual Grandfather's Day Car Show and BarbecueSatur
 day, June 4th, 2011Mike's \"A\" Ford-able Parts Store, Maysville, GA\n
  \nMike's \"A\" Ford-able Parts is hosting the Grandfather's Day Car 
 Show again for that Grandfather of all cars -  the Model A Ford -- al
 ong with a Barbecue at Mike's Place in Maysville, GA, on Saturday, Jun
 e 4th, starting at 9:30 a.m.  Last year we had over 100 Model A's and
  over 500 people!  We're hoping to make it even bigger this year! \n
 There will be a charge for the BBQ lunch consisting of Barbecue, Cole 
 Slaw, Brunswick stew, and iced tea or soda - $8.50 per plate.  A Rese
 rvation Form is below.  Deadline for reservations is May 28th.  You 
 must prepay for the meal so we will know how many to prepare for. (Lat
 e Reservations: $10.00 per plate).  Those prepaying for meals will be
  served first.  Those without prepaid reservations on June 5th may or
  may not be served at the above prices, depending upon the amount of f
 ood left over.\nWe are looking forward to every Model A owner and thei
 r family driving or trailering their restored or unrestored Model A's 
 (no swap meet or flea market stuff, please) to Mike's.  If you want t
 o bring more than one Model A, please do so.  There will be no judgin
 g, just showing.\nWe recommend you bring folding chairs to sit in.  A
 lso, if you have a light folding picnic table we suggest you bring tha
 t too and picnic under the trees. If you are needing to pick up an ord
 er - please call in advance - so we can have it ready for you to hopef
 ully eliminate the long wait for parts.\nSo, please mark your calendar
  for nothing else on Saturday, June 4th, and make plans to celebrate G
 randfather's Day at Mike's \"A\" Ford-able Parts.\n \nPlease see www.
 mikes-afordable.com for your reservation form.\n\nFor more information
  visit https://www.southeastwheelsevents.com/events/grandfathers-day-m
 ikes-a
DTSTART;TZID=Pacific/Midway:20110604T093000
DTEND;TZID=Pacific/Midway:20110604T150000
CATEGORIES:"grandfather's", day, car, show
LOCATION:Mike's \"A\" Ford-able Parts Store, Maysville, GA
WEBSITE:http://www.mikes-afordable.com
URL:http://www.mikes-afordable.com
CONTACT:706-652-3866
ORGANIZER:Mike's \"A\" Ford-able Parts
ATTACH;FMTTYPE="image/jpeg":http://storage.ning.com/topology/rest/1.0/
 file/get/967588848?profile=original
ATTENDEE;ROLE=REQ-PARTICIPANT;PARTSTAT=ACCEPTED;RSVP=TRUE;CN="Kelly Li
 ndeman":https://www.southeastwheelsevents.com/profile/KellyLindeman
END:VEVENT
END:VCALENDAR
