BEGIN:VCALENDAR
PRODID:NingEventWidget-v1
VERSION:2.0
METHOD:PUBLISH
BEGIN:VTIMEZONE
TZID:Pacific/Midway
X-LIC-LOCATION:Pacific/Midway
BEGIN:STANDARD
TZOFFSETFROM:-1100
TZOFFSETTO:-1100
TZNAME:SST
DTSTART:19700101T000000
END:STANDARD
END:VTIMEZONE
BEGIN:VEVENT
UID:5072275:Event:762371
DTSTAMP:20260424T234222Z
SUMMARY:Great Commission Car Show IV, Casar, NC
DESCRIPTION:\n\nFor more information visit https://www.southeastwheels
 events.com/events/great-commission-car-show-iv-casar-nc
DTSTART;TZID=Pacific/Midway:20140607T090000
DTEND;TZID=Pacific/Midway:20140607T150000
CATEGORIES:free, car, show
LOCATION:Zoar Baptist Church
WEBSITE:
URL:
CONTACT:704-300-7344
ORGANIZER;CN="Dwayne Hoyle":https://www.southeastwheelsevents.com/prof
 ile/DwayneHoyle
ATTACH;FMTTYPE="image/jpeg":http://storage.ning.com/topology/rest/1.0/
 file/get/967654473?profile=original
ATTENDEE;ROLE=REQ-PARTICIPANT;PARTSTAT=ACCEPTED;RSVP=TRUE;CN="Chuck Aa
 ron":https://www.southeastwheelsevents.com/profile/ChuckAaron
ATTENDEE;ROLE=REQ-PARTICIPANT;PARTSTAT=ACCEPTED;RSVP=TRUE;CN="Dwayne H
 oyle":https://www.southeastwheelsevents.com/profile/DwayneHoyle
END:VEVENT
END:VCALENDAR
