BEGIN:VCALENDAR
PRODID:NingEventWidget-v1
VERSION:2.0
METHOD:PUBLISH
BEGIN:VTIMEZONE
TZID:Pacific/Midway
X-LIC-LOCATION:Pacific/Midway
BEGIN:STANDARD
TZOFFSETFROM:-1100
TZOFFSETTO:-1100
TZNAME:SST
DTSTART:19700101T000000
END:STANDARD
END:VTIMEZONE
BEGIN:VEVENT
UID:5072275:Event:1101015
DTSTAMP:20260420T074355Z
SUMMARY:Great Smoky Mountain Auto Fest Open Show - Kodak, TN
DESCRIPTION:Great Smoky Mountain Auto Fest Open Show at Smokies Stadiu
 m, 1­40 Exit 407.\r\n\n\nFor more information visit https://www.south
 eastwheelsevents.com/events/great-smoky-mountain-auto-fest-open-show-k
 odak-tn
DTSTART;TZID=Pacific/Midway:20190927T080000
DTEND;TZID=Pacific/Midway:20190928T190000
CATEGORIES:car, show, cruise, in
LOCATION:Smokies Stadium,
WEBSITE:https://www.facebook.com/events/383076142479522/
URL:https://www.facebook.com/events/383076142479522/
CONTACT:(865) 286-2317
ORGANIZER:Andrew O'Gara
ATTACH;FMTTYPE="image/jpeg":http://storage.ning.com/topology/rest/1.0/
 file/get/967798870?profile=original
ATTENDEE;ROLE=REQ-PARTICIPANT;PARTSTAT=ACCEPTED;RSVP=TRUE;CN="Anthony 
 Hopkins":https://www.southeastwheelsevents.com/profile/AnthonyHopkins
END:VEVENT
END:VCALENDAR
