BEGIN:VCALENDAR
PRODID:NingEventWidget-v1
VERSION:2.0
METHOD:PUBLISH
BEGIN:VTIMEZONE
TZID:Pacific/Midway
X-LIC-LOCATION:Pacific/Midway
BEGIN:STANDARD
TZOFFSETFROM:-1100
TZOFFSETTO:-1100
TZNAME:SST
DTSTART:19700101T000000
END:STANDARD
END:VTIMEZONE
BEGIN:VEVENT
UID:5072275:Event:728327
DTSTAMP:20260420T235248Z
SUMMARY:Great South Harley Davidson's  CRUISE-NIGHT & BIKE NITE -Newna
 n, Ga
DESCRIPTION:Great South Harley Davidson of Newnan presents.cruise nigh
 t & bike nite.Every 4th.Saturday,Starting in March going thru October.
 Plenty of parking,clean restrooms,food vendor.OPen to all vehicles,any
  make s,years or models & all bikes.Door prizes, 50/50 drawing,music,1
 0 awards each month.more info : mary 706-668-7731 or email : rdcoupe@g
 mail.com\n\nFor more information visit https://www.southeastwheelseven
 ts.com/events/great-south-harley-davidson-presents-cruise-night-bike-n
 ite
DTSTART;TZID=Pacific/Midway:20140322T160000
DTEND;TZID=Pacific/Midway:20140322T190000
CATEGORIES:cruise-in, car, "&", bike, trucks
LOCATION:Great South Harley Davidson of Newnan
WEBSITE:
URL:
CONTACT:706-668-7731
ORGANIZER:Mary Davenport
ATTACH;FMTTYPE="image/jpeg":
ATTENDEE;ROLE=REQ-PARTICIPANT;PARTSTAT=ACCEPTED;RSVP=TRUE;CN="mary dav
 enport":https://www.southeastwheelsevents.com/profile/marydavenport191
ATTENDEE;ROLE=REQ-PARTICIPANT;PARTSTAT=TENTATIVE;RSVP=TRUE;CN="JP Brad
 y":https://www.southeastwheelsevents.com/profile/jpbrady
END:VEVENT
END:VCALENDAR
