BEGIN:VCALENDAR
PRODID:NingEventWidget-v1
VERSION:2.0
METHOD:PUBLISH
BEGIN:VTIMEZONE
TZID:Pacific/Midway
X-LIC-LOCATION:Pacific/Midway
BEGIN:STANDARD
TZOFFSETFROM:-1100
TZOFFSETTO:-1100
TZNAME:SST
DTSTART:19700101T000000
END:STANDARD
END:VTIMEZONE
BEGIN:VEVENT
UID:5072275:Event:692729
DTSTAMP:20260423T102123Z
SUMMARY:Wounded Warrior Project Charity Ride  -Newnan, GA
DESCRIPTION:The 5th Annual Wounded Warrior Project Charity Ride will b
 e held at Gene Evans Great South Harley Davidson in Newnan, Georgia on
  September 13th, 2014.\nLocation:\n-Gene Evans Great South Harley Davi
 dson in Newnan, Georgia(185 East Hwy 16, Newnan, Georgia)\nRegistratio
 n:\n-Donation for rider and passenger\nWounded Warrior Project Charity
  Ride, (It’s not about the war….it’s about the Warrior!!!) Spons
 ored by: Crossroads F.A.I.T.H. Riders and Great South Harley-Davidson,
  Join us as we make an escorted ride to Georgia National Veterans Ceme
 tery. We are going to remember those that served and honor the familie
 s still with us. We will have a country, back roads ride back to Great
  South after a time of reflection. Event Hours:-Registration begins a
 t 9:00am-Safety Brief at 10:45am-Kickstands up at 11:00amPlease Contac
 t For More Information:-(678) 357-6855 -(770) 841-4131\n\nFor more in
 formation visit https://www.southeastwheelsevents.com/events/great-sou
 th-harley-davidson-presents-cruise-night
DTSTART;TZID=Pacific/Midway:20140913T090000
DTEND;TZID=Pacific/Midway:20140913T170000
CATEGORIES:bike, ride
LOCATION:GREAT  SOUTH HARLEY DAVIDSON
WEBSITE:http://crossroadsfaithriders.com/
URL:http://crossroadsfaithriders.com/
CONTACT:(678) 357-6855  -(770) 841-4131
ORGANIZER:Great South Harley Davidson
ATTACH;FMTTYPE="image/jpeg":http://storage.ning.com/topology/rest/1.0/
 file/get/967645736?profile=original
ATTENDEE;ROLE=REQ-PARTICIPANT;PARTSTAT=ACCEPTED;RSVP=TRUE;CN="mary dav
 enport":https://www.southeastwheelsevents.com/profile/marydavenport
ATTENDEE;ROLE=REQ-PARTICIPANT;PARTSTAT=ACCEPTED;RSVP=TRUE;CN="Michael 
 Thies":https://www.southeastwheelsevents.com/profile/MichaelThies
END:VEVENT
END:VCALENDAR
