BEGIN:VCALENDAR
PRODID:NingEventWidget-v1
VERSION:2.0
METHOD:PUBLISH
BEGIN:VTIMEZONE
TZID:Pacific/Midway
X-LIC-LOCATION:Pacific/Midway
BEGIN:STANDARD
TZOFFSETFROM:-1100
TZOFFSETTO:-1100
TZNAME:SST
DTSTART:19700101T000000
END:STANDARD
END:VTIMEZONE
BEGIN:VEVENT
UID:5072275:Event:561560
DTSTAMP:20260421T103252Z
SUMMARY:Greek Festival Olympic Classic Cruise In -Anderson, SC
DESCRIPTION:Greek Festival Olympic Classic Car Show -Anderson, SC\n\n\
 nFor more information visit https://www.southeastwheelsevents.com/even
 ts/greek-festival-olympic-classic-cruise-in-anderson-sc
DTSTART;TZID=Pacific/Midway:20120915T000000
DTEND;TZID=Pacific/Midway:20120916T235900
CATEGORIES:cruise-in
LOCATION:Anderson Civis Center
WEBSITE:http://www.shepardsguild.org
URL:http://www.shepardsguild.org
CONTACT:
ORGANIZER:The Shepards Guild
ATTACH;FMTTYPE="image/jpeg":
ATTENDEE;ROLE=REQ-PARTICIPANT;PARTSTAT=ACCEPTED;RSVP=TRUE;CN="Jack Tho
 mas":https://www.southeastwheelsevents.com/profile/JackThomas
END:VEVENT
END:VCALENDAR
