BEGIN:VCALENDAR
PRODID:NingEventWidget-v1
VERSION:2.0
METHOD:PUBLISH
BEGIN:VTIMEZONE
TZID:Pacific/Midway
X-LIC-LOCATION:Pacific/Midway
BEGIN:STANDARD
TZOFFSETFROM:-1100
TZOFFSETTO:-1100
TZNAME:SST
DTSTART:19700101T000000
END:STANDARD
END:VTIMEZONE
BEGIN:VEVENT
UID:5072275:Event:1025326
DTSTAMP:20260424T065407Z
SUMMARY:Greensboro Cars & Coffee
DESCRIPTION:Greensboro Cars & Coffee will be held at UNCG, 1400 Spring
  Garden St, Greensboro, NC 27412, United States. Meeting starts at 8:0
 0 am. and ends by 10:00 am.\n\nFor more information visit https://www.
 southeastwheelsevents.com/events/greensboro-cars-coffee
DTSTART;TZID=Pacific/Midway:20161217T080000
DTEND;TZID=Pacific/Midway:20161217T100000
CATEGORIES:cars, "clubs/shows/cruises"
LOCATION:UNCG
WEBSITE:http://www.carolinas-pca.com/NewsDates/Calendar.aspx
URL:http://www.carolinas-pca.com/NewsDates/Calendar.aspx
CONTACT:
ORGANIZER:Carolinas Region PCA
ATTACH;FMTTYPE="image/jpeg":http://storage.ning.com/topology/rest/1.0/
 file/get/967716492?profile=original
ATTENDEE;ROLE=REQ-PARTICIPANT;PARTSTAT=ACCEPTED;RSVP=TRUE;CN="Chris go
 sney":https://www.southeastwheelsevents.com/profile/Chrisgosney
END:VEVENT
END:VCALENDAR
