BEGIN:VCALENDAR
PRODID:NingEventWidget-v1
VERSION:2.0
METHOD:PUBLISH
BEGIN:VTIMEZONE
TZID:Pacific/Midway
X-LIC-LOCATION:Pacific/Midway
BEGIN:STANDARD
TZOFFSETFROM:-1100
TZOFFSETTO:-1100
TZNAME:SST
DTSTART:19700101T000000
END:STANDARD
END:VTIMEZONE
BEGIN:VEVENT
UID:5072275:Event:1187383
DTSTAMP:20260423T143005Z
SUMMARY:GRMC ON THE TAIL OF THE DRAGON
DESCRIPTION:Hello Georgia Regional Members and past members. This is a
  Special event just for you.. We plan on meeting Sunday March 29th at 
 the Walmart in Canton of 575 at Exit 20 @ 9:00am ( if some want to mee
 t early and have breakfast at Cracker Barrel then please do and be at 
 Walmart by 8:45) Our President Dale Westcott is going to lead us on a 
 fun adventure to the Tail of the Dragon.. Make sure you have a full ta
 nk of gas before we head out and remember there is little to no cell s
 ervice on the Dragon... We will have Two-way radios to use. We will st
 op for gas before we get on the Dragon. There are some beautiful stops
  to take pictures along the dragon After the ride thru the dragon a fe
 w times we will head to \"The Hub\" to have lunch and talk about our e
 xciting day. Then Dale will lead us back to our meeting place in Canto
 n, if you wish to follow or go back on your own you are welcome to. Im
 portant note: This is a STATE Hwy and there will be officers in NC tha
 t will be happy to take your money. ( if you need a list of speeding f
 ines.. please see Pam) LOL Please drive where you feel comfortable NO 
 crazy driving this is a dangerous road especially if you lose control.
 If there is someone on your tail (ex: motorcycles, other fast cars) pu
 ll over in one of the pull over spots. This is a courtesy on the DRAGO
 N... There will be several photographers taking pictures and they will
  be posted for you to purchase on line. We are going to have fun.. It'
 s not a race It will be an All day event, but feel free to leave if yo
 u need to get back home.See you soon... oh yeah check your breaks.... 
 \n\nFor more information visit https://www.southeastwheelsevents.com/e
 vents/grmc-on-the-tail-of-the-dragon
DTSTART;TZID=Pacific/Midway:20200329T080000
DTEND;TZID=Pacific/Midway:20200329T170000
CATEGORIES:fun, run
LOCATION:TAIL OF THE DRAGON
WEBSITE:
URL:
CONTACT:
ORGANIZER:GEORGIA REGIONAL MUSTANG CLUB
ATTACH;FMTTYPE="image/jpeg":https://storage.ning.com/topology/rest/1.0
 /file/get/3844535005?profile=original
ATTENDEE;ROLE=REQ-PARTICIPANT;PARTSTAT=TENTATIVE;RSVP=TRUE;CN="Jeffrey
  Rutherford":https://www.southeastwheelsevents.com/profile/JeffreyRuth
 erford866
END:VEVENT
END:VCALENDAR
