BEGIN:VCALENDAR
PRODID:NingEventWidget-v1
VERSION:2.0
METHOD:PUBLISH
BEGIN:VTIMEZONE
TZID:Pacific/Midway
X-LIC-LOCATION:Pacific/Midway
BEGIN:STANDARD
TZOFFSETFROM:-1100
TZOFFSETTO:-1100
TZNAME:SST
DTSTART:19700101T000000
END:STANDARD
END:VTIMEZONE
BEGIN:VEVENT
UID:5072275:Event:1180591
DTSTAMP:20260421T032427Z
SUMMARY:GSRA Annual Picnic and Awards Meeting -Flovilla, GA
DESCRIPTION: GSRA Annual Picnic and Awards Meeting  10 AM - 2 PM  Indi
 an Springs State Park  678 Lake Clark Road  Flovilla, GA 30216  This i
 s the GSRA’s annual summer picnic and Awards meeting where the Car o
 f the Year winner is announced. Bring your chairs.\n\nFor more informa
 tion visit https://www.southeastwheelsevents.com/events/gsra-annual-pi
 cnic-and-awards-meeting
DTSTART;TZID=Pacific/Midway:20250726T100000
DTEND;TZID=Pacific/Midway:20250726T140000
CATEGORIES:picnic, and, awards, meeting
LOCATION:Indian Springs State Park
WEBSITE:http://www.gsra.com
URL:http://www.gsra.com
CONTACT:770-595-4410
ORGANIZER:Georgia Street Rod Association
ATTACH;FMTTYPE="image/jpeg":https://storage.ning.com/topology/rest/1.0
 /file/get/3714502750?profile=original
ATTENDEE;ROLE=REQ-PARTICIPANT;PARTSTAT=ACCEPTED;RSVP=TRUE;CN="Rick Sch
 midt":https://www.southeastwheelsevents.com/profile/RickSchmidt
END:VEVENT
END:VCALENDAR
