BEGIN:VCALENDAR
PRODID:NingEventWidget-v1
VERSION:2.0
METHOD:PUBLISH
BEGIN:VTIMEZONE
TZID:Pacific/Midway
X-LIC-LOCATION:Pacific/Midway
BEGIN:STANDARD
TZOFFSETFROM:-1100
TZOFFSETTO:-1100
TZNAME:SST
DTSTART:19700101T000000
END:STANDARD
END:VTIMEZONE
BEGIN:VEVENT
UID:5072275:Event:1103453
DTSTAMP:20260421T165436Z
SUMMARY:GSRA CAR SHOW at Atlanta Motorsports Park -Dawsonville, GA
DESCRIPTION:Saturday,Â September 22, 2018 GSRAÂ  Event \r\nGSRA CAR SH
 OW at Atlanta Motorsports Park\r\nThis is a very special opportunity t
 o visitÂ  \r\nthis beautiful motorsports facility\r\nÂ \r\nLET'S HAVE 
 A GREAT TURNOUT\r\nÂ Â Bring some snacks and beverages for yourself\r\
 nÂ Â Â Â Â Â Â Â Â Â Â Â Â Â Â Â Â Â Â Â Â  Saturday September 22Â  Â 
  Â  FREE ADMISSIONÂ  Â Â Â \r\nÂ Â Â Â Â Â Â Â Â Â Â Â Â Â Â Car Show 
 10am â€“ 1pmÂ Â Â Â Â Â Â  1pm â€“ 2pm Parade Laps on Track\r\nATLANTA
  MOTORSPORTS PARK\r\nÂ Â Â Â Â Â Â Â Â Â Â Â Â Â Â Â Â Â Â Â Â Â Â Â Â
  Â Â  20 Duck Thurmond Rd., Dawsonville, GA 30534 From Ga 400 N ( US 1
 9) at top end of I-285, drive 38.1 miles, passing North Georgia outlet
 s on the left, then turn left at GA 53 (you'll see a McDonald's on you
 r left). Turn left at the stop sign before Downtown Dawsonville to rem
 ain on GA 53. At the roundabout, go straight on then stay left at the 
 turn off for Amicalola Falls to remain on GA 53. After 1.1 miles, turn
  right at Duck Thurmond Road and the circuit entrance is on the right.
 \n\nFor more information visit https://www.southeastwheelsevents.com/e
 vents/gsra-car-show-at-atlanta-motorsports-park-dawsonville-ga
DTSTART;TZID=Pacific/Midway:20180922T100000
DTEND;TZID=Pacific/Midway:20180922T140000
CATEGORIES:car, show, parade, laps, racing, park, track
LOCATION:ATLANTA MOTORSPORTS PARK
WEBSITE:http://www.GSRA.com
URL:http://www.GSRA.com
CONTACT:770-213-4243
ORGANIZER:GA Hot Rod Assoc.
ATTACH;FMTTYPE="image/jpeg":http://storage.ning.com/topology/rest/1.0/
 file/get/967802040?profile=original
ATTENDEE;ROLE=REQ-PARTICIPANT;PARTSTAT=ACCEPTED;RSVP=TRUE;CN=Zoutlawss
 :https://www.southeastwheelsevents.com/profile/billybaumgartner
ATTENDEE;ROLE=REQ-PARTICIPANT;PARTSTAT=ACCEPTED;RSVP=TRUE;CN="Chuck Aa
 ron":https://www.southeastwheelsevents.com/profile/ChuckAaron886
END:VEVENT
END:VCALENDAR
