BEGIN:VCALENDAR
PRODID:NingEventWidget-v1
VERSION:2.0
METHOD:PUBLISH
BEGIN:VTIMEZONE
TZID:Pacific/Midway
X-LIC-LOCATION:Pacific/Midway
BEGIN:STANDARD
TZOFFSETFROM:-1100
TZOFFSETTO:-1100
TZNAME:SST
DTSTART:19700101T000000
END:STANDARD
END:VTIMEZONE
BEGIN:VEVENT
UID:5072275:Event:1076743
DTSTAMP:20260424T120107Z
SUMMARY:GSRA Meeting and Cruise In -Jefferson, GA
DESCRIPTION:February 2018 GSRA  Meeting\r\nSaturday, February 10, 201
 8 ●NuTech Refinishing, Inc.\r\nOpen 10:00 AM ● Meeting Begins at 
 11:00 AM\r\nBring Chairs\r\nNuTech will have donuts and coffee\r\nLann
 y Porter, NuTech owner and GSRA member, will discuss\r\nsoda blasting 
 and sandblasting\r\n1375 Washington Street, Jefferson, GA 30549 ● 77
 0 480-6763\r\nFrom I-285 take I-85 north  to Exit 137, go south on US
  129 1 mile and take a left on Washington Street\r\n( Business 129/11)
 , drive approximately 2 miles. Nutech is on right, behind Bell’s Gro
 cery,\r\nsame driveway as Premier Reality.\n\nFor more information vis
 it https://www.southeastwheelsevents.com/events/gsra-meeting-and-cruis
 e-in-jefferson-ga
DTSTART;TZID=Pacific/Midway:20180210T100000
DTEND;TZID=Pacific/Midway:20180210T123000
CATEGORIES:meeting, cruise-in
LOCATION:NuTech
WEBSITE:http://www.gsra.com
URL:http://www.gsra.com
CONTACT:770-213-4243
ORGANIZER:Georgia Street Rod Association
ATTACH;FMTTYPE="image/jpeg":http://storage.ning.com/topology/rest/1.0/
 file/get/967588014?profile=original
ATTENDEE;ROLE=REQ-PARTICIPANT;PARTSTAT=ACCEPTED;RSVP=TRUE;CN="Chuck Aa
 ron":https://www.southeastwheelsevents.com/profile/ChuckAaron886
END:VEVENT
END:VCALENDAR
