BEGIN:VCALENDAR
PRODID:NingEventWidget-v1
VERSION:2.0
METHOD:PUBLISH
BEGIN:VTIMEZONE
TZID:Pacific/Midway
X-LIC-LOCATION:Pacific/Midway
BEGIN:STANDARD
TZOFFSETFROM:-1100
TZOFFSETTO:-1100
TZNAME:SST
DTSTART:19700101T000000
END:STANDARD
END:VTIMEZONE
BEGIN:VEVENT
UID:5072275:Event:613710
DTSTAMP:20260421T070635Z
SUMMARY:GSRA Free Memorial Open Cruise In (& Monthly Meeting)  -Commer
 ce, GA
DESCRIPTION:All Invited to attend. \nDue to the passing of long time 
 GSRA member Carlos Sanders the May 11, 2013 GSRA Meeting has been move
 d to: Goodmark Motors, 123 South Elm Street, Commerce, GA 30529.  Lun
 ch will be provided.  Also, the owner, Tom Owen and GSRA are hosting 
 a FREE Open To All Cruise-In in honor of Carlos Sanders and all the St
 reet Rodders that we have lost in the last years. Trophies are being d
 onated by Georgia Trophies out of Carl, GA.\n \nThe Cruise-In starts 
 at 10am and will end at 2:30pm. The GSRA meeting will be held in the s
 howroom at 12:30p to 1:30pm.  A RSVP is not required but please notif
 y others and invite friends. The more the merrier.  This is a good op
 portunity to recruit new members.\nCall Mike Thies at 770-883-0160 or 
 email Mike@SouthEastWheelsEvents.com with any questions.   Goodmark 
 Motors’ website is www.GoodmarkChevy.com.\n\n\nFor more information 
 visit https://www.southeastwheelsevents.com/events/gsra-monthly-meetin
 g-cruise-fayetteville-ga
DTSTART;TZID=Pacific/Midway:20130511T100000
DTEND;TZID=Pacific/Midway:20130511T150000
CATEGORIES:free, open, crusie-in, club-meeting, cruise
LOCATION:Goodmark Motors
WEBSITE:http://www.gsra.com
URL:http://www.gsra.com
CONTACT:770-719-0076
ORGANIZER:Georgia Street Rod Association
ATTACH;FMTTYPE="image/jpeg":http://storage.ning.com/topology/rest/1.0/
 file/get/967632645?profile=original
ATTENDEE;ROLE=REQ-PARTICIPANT;PARTSTAT=ACCEPTED;RSVP=TRUE;CN="Jerry Jo
 nes":https://www.southeastwheelsevents.com/profile/JerryJOnes
ATTENDEE;ROLE=REQ-PARTICIPANT;PARTSTAT=ACCEPTED;RSVP=TRUE;CN="Michael 
 Thies":https://www.southeastwheelsevents.com/profile/MichaelThies
ATTENDEE;ROLE=REQ-PARTICIPANT;PARTSTAT=TENTATIVE;RSVP=TRUE;CN="Melba C
 helko":https://www.southeastwheelsevents.com/profile/MelbaChelko
ATTENDEE;ROLE=REQ-PARTICIPANT;PARTSTAT=TENTATIVE;RSVP=TRUE;CN="Lenny  
    Major":https://www.southeastwheelsevents.com/profile/LennyMajor
END:VEVENT
END:VCALENDAR
